BEGIN:VCALENDAR
VERSION:2.0
PRODID:-//Rccg COD Canterbury - ECPv6.13.2.1//NONSGML v1.0//EN
CALSCALE:GREGORIAN
METHOD:PUBLISH
X-WR-CALNAME:Rccg COD Canterbury
X-ORIGINAL-URL:https://codcanterburychurch.org
X-WR-CALDESC:Events for Rccg COD Canterbury
REFRESH-INTERVAL;VALUE=DURATION:PT1H
X-Robots-Tag:noindex
X-PUBLISHED-TTL:PT1H
BEGIN:VTIMEZONE
TZID:Europe/London
BEGIN:DAYLIGHT
TZOFFSETFROM:+0000
TZOFFSETTO:+0100
TZNAME:BST
DTSTART:20270328T010000
END:DAYLIGHT
BEGIN:STANDARD
TZOFFSETFROM:+0100
TZOFFSETTO:+0000
TZNAME:GMT
DTSTART:20271031T010000
END:STANDARD
END:VTIMEZONE
BEGIN:VEVENT
DTSTART;TZID=Europe/London:20270226T220000
DTEND;TZID=Europe/London:20270226T233000
DTSTAMP:20260424T112914
CREATED:20250622T203835Z
LAST-MODIFIED:20250622T203835Z
UID:10000348-1803679200-1803684600@codcanterburychurch.org
SUMMARY:Connect Friday
DESCRIPTION:
URL:https://codcanterburychurch.org/index.php/event/connect-friday/2027-02-26/
LOCATION:Function Hall\, St. John’s Church of England Primary School\, Canterbury\, United Kingdom
ATTACH;FMTTYPE=image/jpeg:https://codcanterburychurch.org/wp-content/uploads/2025/06/connect-friday-cod-canterbury.jpg
ORGANIZER;CN="COD Canterbury":MAILTO:office@codcanterburychurch.org
END:VEVENT
BEGIN:VEVENT
DTSTART;TZID=Europe/London:20270228T090000
DTEND;TZID=Europe/London:20270228T110000
DTSTAMP:20260424T112914
CREATED:20250622T203547Z
LAST-MODIFIED:20250622T203547Z
UID:10000088-1803805200-1803812400@codcanterburychurch.org
SUMMARY:Sunday Service
DESCRIPTION:Sunday Service
URL:https://codcanterburychurch.org/index.php/event/sunday-service/2027-02-28/
LOCATION:Function Hall\, St. John’s Church of England Primary School\, Canterbury\, United Kingdom
ATTACH;FMTTYPE=image/png:https://codcanterburychurch.org/wp-content/uploads/2025/06/sunday-service-cos.png
ORGANIZER;CN="COD Canterbury":MAILTO:office@codcanterburychurch.org
END:VEVENT
BEGIN:VEVENT
DTSTART;TZID=Europe/London:20270228T113000
DTEND;TZID=Europe/London:20270228T140000
DTSTAMP:20260424T112914
CREATED:20251213T164232Z
LAST-MODIFIED:20251213T164232Z
UID:10000896-1803814200-1803823200@codcanterburychurch.org
SUMMARY:2nd Service - Sunday
DESCRIPTION:Sunday Service
URL:https://codcanterburychurch.org/index.php/event/2nd-service-sunday/2027-02-28/
LOCATION:Function Hall\, St. John’s Church of England Primary School\, Canterbury\, United Kingdom
ATTACH;FMTTYPE=image/png:https://codcanterburychurch.org/wp-content/uploads/2025/06/sunday-service-cos.png
ORGANIZER;CN="COD Canterbury":MAILTO:office@codcanterburychurch.org
END:VEVENT
BEGIN:VEVENT
DTSTART;TZID=Europe/London:20270305T220000
DTEND;TZID=Europe/London:20270305T233000
DTSTAMP:20260424T112914
CREATED:20250622T203835Z
LAST-MODIFIED:20250622T203835Z
UID:10000349-1804284000-1804289400@codcanterburychurch.org
SUMMARY:Connect Friday
DESCRIPTION:
URL:https://codcanterburychurch.org/index.php/event/connect-friday/2027-03-05/
LOCATION:Function Hall\, St. John’s Church of England Primary School\, Canterbury\, United Kingdom
ATTACH;FMTTYPE=image/jpeg:https://codcanterburychurch.org/wp-content/uploads/2025/06/connect-friday-cod-canterbury.jpg
ORGANIZER;CN="COD Canterbury":MAILTO:office@codcanterburychurch.org
END:VEVENT
BEGIN:VEVENT
DTSTART;TZID=Europe/London:20270307T090000
DTEND;TZID=Europe/London:20270307T110000
DTSTAMP:20260424T112914
CREATED:20250622T203547Z
LAST-MODIFIED:20250622T203547Z
UID:10000089-1804410000-1804417200@codcanterburychurch.org
SUMMARY:Sunday Service
DESCRIPTION:Sunday Service
URL:https://codcanterburychurch.org/index.php/event/sunday-service/2027-03-07/
LOCATION:Function Hall\, St. John’s Church of England Primary School\, Canterbury\, United Kingdom
ATTACH;FMTTYPE=image/png:https://codcanterburychurch.org/wp-content/uploads/2025/06/sunday-service-cos.png
ORGANIZER;CN="COD Canterbury":MAILTO:office@codcanterburychurch.org
END:VEVENT
BEGIN:VEVENT
DTSTART;TZID=Europe/London:20270307T113000
DTEND;TZID=Europe/London:20270307T140000
DTSTAMP:20260424T112914
CREATED:20251213T164232Z
LAST-MODIFIED:20251213T164232Z
UID:10000897-1804419000-1804428000@codcanterburychurch.org
SUMMARY:2nd Service - Sunday
DESCRIPTION:Sunday Service
URL:https://codcanterburychurch.org/index.php/event/2nd-service-sunday/2027-03-07/
LOCATION:Function Hall\, St. John’s Church of England Primary School\, Canterbury\, United Kingdom
ATTACH;FMTTYPE=image/png:https://codcanterburychurch.org/wp-content/uploads/2025/06/sunday-service-cos.png
ORGANIZER;CN="COD Canterbury":MAILTO:office@codcanterburychurch.org
END:VEVENT
BEGIN:VEVENT
DTSTART;TZID=Europe/London:20270312T220000
DTEND;TZID=Europe/London:20270312T233000
DTSTAMP:20260424T112914
CREATED:20250622T203835Z
LAST-MODIFIED:20250622T203835Z
UID:10000350-1804888800-1804894200@codcanterburychurch.org
SUMMARY:Connect Friday
DESCRIPTION:
URL:https://codcanterburychurch.org/index.php/event/connect-friday/2027-03-12/
LOCATION:Function Hall\, St. John’s Church of England Primary School\, Canterbury\, United Kingdom
ATTACH;FMTTYPE=image/jpeg:https://codcanterburychurch.org/wp-content/uploads/2025/06/connect-friday-cod-canterbury.jpg
ORGANIZER;CN="COD Canterbury":MAILTO:office@codcanterburychurch.org
END:VEVENT
BEGIN:VEVENT
DTSTART;TZID=Europe/London:20270314T090000
DTEND;TZID=Europe/London:20270314T110000
DTSTAMP:20260424T112914
CREATED:20250622T203547Z
LAST-MODIFIED:20250622T203547Z
UID:10000090-1805014800-1805022000@codcanterburychurch.org
SUMMARY:Sunday Service
DESCRIPTION:Sunday Service
URL:https://codcanterburychurch.org/index.php/event/sunday-service/2027-03-14/
LOCATION:Function Hall\, St. John’s Church of England Primary School\, Canterbury\, United Kingdom
ATTACH;FMTTYPE=image/png:https://codcanterburychurch.org/wp-content/uploads/2025/06/sunday-service-cos.png
ORGANIZER;CN="COD Canterbury":MAILTO:office@codcanterburychurch.org
END:VEVENT
BEGIN:VEVENT
DTSTART;TZID=Europe/London:20270314T113000
DTEND;TZID=Europe/London:20270314T140000
DTSTAMP:20260424T112914
CREATED:20251213T164232Z
LAST-MODIFIED:20251213T164232Z
UID:10000898-1805023800-1805032800@codcanterburychurch.org
SUMMARY:2nd Service - Sunday
DESCRIPTION:Sunday Service
URL:https://codcanterburychurch.org/index.php/event/2nd-service-sunday/2027-03-14/
LOCATION:Function Hall\, St. John’s Church of England Primary School\, Canterbury\, United Kingdom
ATTACH;FMTTYPE=image/png:https://codcanterburychurch.org/wp-content/uploads/2025/06/sunday-service-cos.png
ORGANIZER;CN="COD Canterbury":MAILTO:office@codcanterburychurch.org
END:VEVENT
BEGIN:VEVENT
DTSTART;TZID=Europe/London:20270319T220000
DTEND;TZID=Europe/London:20270319T233000
DTSTAMP:20260424T112914
CREATED:20250622T203835Z
LAST-MODIFIED:20250622T203835Z
UID:10000351-1805493600-1805499000@codcanterburychurch.org
SUMMARY:Connect Friday
DESCRIPTION:
URL:https://codcanterburychurch.org/index.php/event/connect-friday/2027-03-19/
LOCATION:Function Hall\, St. John’s Church of England Primary School\, Canterbury\, United Kingdom
ATTACH;FMTTYPE=image/jpeg:https://codcanterburychurch.org/wp-content/uploads/2025/06/connect-friday-cod-canterbury.jpg
ORGANIZER;CN="COD Canterbury":MAILTO:office@codcanterburychurch.org
END:VEVENT
BEGIN:VEVENT
DTSTART;TZID=Europe/London:20270321T090000
DTEND;TZID=Europe/London:20270321T110000
DTSTAMP:20260424T112914
CREATED:20250622T203547Z
LAST-MODIFIED:20250622T203547Z
UID:10000091-1805619600-1805626800@codcanterburychurch.org
SUMMARY:Sunday Service
DESCRIPTION:Sunday Service
URL:https://codcanterburychurch.org/index.php/event/sunday-service/2027-03-21/
LOCATION:Function Hall\, St. John’s Church of England Primary School\, Canterbury\, United Kingdom
ATTACH;FMTTYPE=image/png:https://codcanterburychurch.org/wp-content/uploads/2025/06/sunday-service-cos.png
ORGANIZER;CN="COD Canterbury":MAILTO:office@codcanterburychurch.org
END:VEVENT
BEGIN:VEVENT
DTSTART;TZID=Europe/London:20270321T113000
DTEND;TZID=Europe/London:20270321T140000
DTSTAMP:20260424T112914
CREATED:20251213T164232Z
LAST-MODIFIED:20251213T164232Z
UID:10000899-1805628600-1805637600@codcanterburychurch.org
SUMMARY:2nd Service - Sunday
DESCRIPTION:Sunday Service
URL:https://codcanterburychurch.org/index.php/event/2nd-service-sunday/2027-03-21/
LOCATION:Function Hall\, St. John’s Church of England Primary School\, Canterbury\, United Kingdom
ATTACH;FMTTYPE=image/png:https://codcanterburychurch.org/wp-content/uploads/2025/06/sunday-service-cos.png
ORGANIZER;CN="COD Canterbury":MAILTO:office@codcanterburychurch.org
END:VEVENT
BEGIN:VEVENT
DTSTART;TZID=Europe/London:20270326T220000
DTEND;TZID=Europe/London:20270326T233000
DTSTAMP:20260424T112914
CREATED:20250622T203835Z
LAST-MODIFIED:20250622T203835Z
UID:10000352-1806098400-1806103800@codcanterburychurch.org
SUMMARY:Connect Friday
DESCRIPTION:
URL:https://codcanterburychurch.org/index.php/event/connect-friday/2027-03-26/
LOCATION:Function Hall\, St. John’s Church of England Primary School\, Canterbury\, United Kingdom
ATTACH;FMTTYPE=image/jpeg:https://codcanterburychurch.org/wp-content/uploads/2025/06/connect-friday-cod-canterbury.jpg
ORGANIZER;CN="COD Canterbury":MAILTO:office@codcanterburychurch.org
END:VEVENT
BEGIN:VEVENT
DTSTART;TZID=Europe/London:20270328T090000
DTEND;TZID=Europe/London:20270328T110000
DTSTAMP:20260424T112914
CREATED:20250622T203547Z
LAST-MODIFIED:20250622T203547Z
UID:10000092-1806224400-1806231600@codcanterburychurch.org
SUMMARY:Sunday Service
DESCRIPTION:Sunday Service
URL:https://codcanterburychurch.org/index.php/event/sunday-service/2027-03-28/
LOCATION:Function Hall\, St. John’s Church of England Primary School\, Canterbury\, United Kingdom
ATTACH;FMTTYPE=image/png:https://codcanterburychurch.org/wp-content/uploads/2025/06/sunday-service-cos.png
ORGANIZER;CN="COD Canterbury":MAILTO:office@codcanterburychurch.org
END:VEVENT
BEGIN:VEVENT
DTSTART;TZID=Europe/London:20270328T113000
DTEND;TZID=Europe/London:20270328T140000
DTSTAMP:20260424T112914
CREATED:20251213T164232Z
LAST-MODIFIED:20251213T164232Z
UID:10000900-1806233400-1806242400@codcanterburychurch.org
SUMMARY:2nd Service - Sunday
DESCRIPTION:Sunday Service
URL:https://codcanterburychurch.org/index.php/event/2nd-service-sunday/2027-03-28/
LOCATION:Function Hall\, St. John’s Church of England Primary School\, Canterbury\, United Kingdom
ATTACH;FMTTYPE=image/png:https://codcanterburychurch.org/wp-content/uploads/2025/06/sunday-service-cos.png
ORGANIZER;CN="COD Canterbury":MAILTO:office@codcanterburychurch.org
END:VEVENT
BEGIN:VEVENT
DTSTART;TZID=Europe/London:20270402T220000
DTEND;TZID=Europe/London:20270402T233000
DTSTAMP:20260424T112914
CREATED:20250622T203835Z
LAST-MODIFIED:20250622T203835Z
UID:10000353-1806703200-1806708600@codcanterburychurch.org
SUMMARY:Connect Friday
DESCRIPTION:
URL:https://codcanterburychurch.org/index.php/event/connect-friday/2027-04-02/
LOCATION:Function Hall\, St. John’s Church of England Primary School\, Canterbury\, United Kingdom
ATTACH;FMTTYPE=image/jpeg:https://codcanterburychurch.org/wp-content/uploads/2025/06/connect-friday-cod-canterbury.jpg
ORGANIZER;CN="COD Canterbury":MAILTO:office@codcanterburychurch.org
END:VEVENT
BEGIN:VEVENT
DTSTART;TZID=Europe/London:20270404T090000
DTEND;TZID=Europe/London:20270404T110000
DTSTAMP:20260424T112914
CREATED:20250622T203547Z
LAST-MODIFIED:20250622T203547Z
UID:10000093-1806829200-1806836400@codcanterburychurch.org
SUMMARY:Sunday Service
DESCRIPTION:Sunday Service
URL:https://codcanterburychurch.org/index.php/event/sunday-service/2027-04-04/
LOCATION:Function Hall\, St. John’s Church of England Primary School\, Canterbury\, United Kingdom
ATTACH;FMTTYPE=image/png:https://codcanterburychurch.org/wp-content/uploads/2025/06/sunday-service-cos.png
ORGANIZER;CN="COD Canterbury":MAILTO:office@codcanterburychurch.org
END:VEVENT
BEGIN:VEVENT
DTSTART;TZID=Europe/London:20270404T113000
DTEND;TZID=Europe/London:20270404T140000
DTSTAMP:20260424T112914
CREATED:20251213T164232Z
LAST-MODIFIED:20251213T164232Z
UID:10000901-1806838200-1806847200@codcanterburychurch.org
SUMMARY:2nd Service - Sunday
DESCRIPTION:Sunday Service
URL:https://codcanterburychurch.org/index.php/event/2nd-service-sunday/2027-04-04/
LOCATION:Function Hall\, St. John’s Church of England Primary School\, Canterbury\, United Kingdom
ATTACH;FMTTYPE=image/png:https://codcanterburychurch.org/wp-content/uploads/2025/06/sunday-service-cos.png
ORGANIZER;CN="COD Canterbury":MAILTO:office@codcanterburychurch.org
END:VEVENT
BEGIN:VEVENT
DTSTART;TZID=Europe/London:20270409T220000
DTEND;TZID=Europe/London:20270409T233000
DTSTAMP:20260424T112914
CREATED:20250622T203835Z
LAST-MODIFIED:20250622T203835Z
UID:10000354-1807308000-1807313400@codcanterburychurch.org
SUMMARY:Connect Friday
DESCRIPTION:
URL:https://codcanterburychurch.org/index.php/event/connect-friday/2027-04-09/
LOCATION:Function Hall\, St. John’s Church of England Primary School\, Canterbury\, United Kingdom
ATTACH;FMTTYPE=image/jpeg:https://codcanterburychurch.org/wp-content/uploads/2025/06/connect-friday-cod-canterbury.jpg
ORGANIZER;CN="COD Canterbury":MAILTO:office@codcanterburychurch.org
END:VEVENT
BEGIN:VEVENT
DTSTART;TZID=Europe/London:20270411T090000
DTEND;TZID=Europe/London:20270411T110000
DTSTAMP:20260424T112914
CREATED:20250622T203547Z
LAST-MODIFIED:20250622T203547Z
UID:10000094-1807434000-1807441200@codcanterburychurch.org
SUMMARY:Sunday Service
DESCRIPTION:Sunday Service
URL:https://codcanterburychurch.org/index.php/event/sunday-service/2027-04-11/
LOCATION:Function Hall\, St. John’s Church of England Primary School\, Canterbury\, United Kingdom
ATTACH;FMTTYPE=image/png:https://codcanterburychurch.org/wp-content/uploads/2025/06/sunday-service-cos.png
ORGANIZER;CN="COD Canterbury":MAILTO:office@codcanterburychurch.org
END:VEVENT
BEGIN:VEVENT
DTSTART;TZID=Europe/London:20270411T113000
DTEND;TZID=Europe/London:20270411T140000
DTSTAMP:20260424T112914
CREATED:20251213T164232Z
LAST-MODIFIED:20251213T164232Z
UID:10000902-1807443000-1807452000@codcanterburychurch.org
SUMMARY:2nd Service - Sunday
DESCRIPTION:Sunday Service
URL:https://codcanterburychurch.org/index.php/event/2nd-service-sunday/2027-04-11/
LOCATION:Function Hall\, St. John’s Church of England Primary School\, Canterbury\, United Kingdom
ATTACH;FMTTYPE=image/png:https://codcanterburychurch.org/wp-content/uploads/2025/06/sunday-service-cos.png
ORGANIZER;CN="COD Canterbury":MAILTO:office@codcanterburychurch.org
END:VEVENT
BEGIN:VEVENT
DTSTART;TZID=Europe/London:20270416T220000
DTEND;TZID=Europe/London:20270416T233000
DTSTAMP:20260424T112914
CREATED:20250622T203835Z
LAST-MODIFIED:20250622T203835Z
UID:10000355-1807912800-1807918200@codcanterburychurch.org
SUMMARY:Connect Friday
DESCRIPTION:
URL:https://codcanterburychurch.org/index.php/event/connect-friday/2027-04-16/
LOCATION:Function Hall\, St. John’s Church of England Primary School\, Canterbury\, United Kingdom
ATTACH;FMTTYPE=image/jpeg:https://codcanterburychurch.org/wp-content/uploads/2025/06/connect-friday-cod-canterbury.jpg
ORGANIZER;CN="COD Canterbury":MAILTO:office@codcanterburychurch.org
END:VEVENT
BEGIN:VEVENT
DTSTART;TZID=Europe/London:20270418T090000
DTEND;TZID=Europe/London:20270418T110000
DTSTAMP:20260424T112914
CREATED:20250622T203547Z
LAST-MODIFIED:20250622T203547Z
UID:10000095-1808038800-1808046000@codcanterburychurch.org
SUMMARY:Sunday Service
DESCRIPTION:Sunday Service
URL:https://codcanterburychurch.org/index.php/event/sunday-service/2027-04-18/
LOCATION:Function Hall\, St. John’s Church of England Primary School\, Canterbury\, United Kingdom
ATTACH;FMTTYPE=image/png:https://codcanterburychurch.org/wp-content/uploads/2025/06/sunday-service-cos.png
ORGANIZER;CN="COD Canterbury":MAILTO:office@codcanterburychurch.org
END:VEVENT
BEGIN:VEVENT
DTSTART;TZID=Europe/London:20270418T113000
DTEND;TZID=Europe/London:20270418T140000
DTSTAMP:20260424T112914
CREATED:20251213T164232Z
LAST-MODIFIED:20251213T164232Z
UID:10000903-1808047800-1808056800@codcanterburychurch.org
SUMMARY:2nd Service - Sunday
DESCRIPTION:Sunday Service
URL:https://codcanterburychurch.org/index.php/event/2nd-service-sunday/2027-04-18/
LOCATION:Function Hall\, St. John’s Church of England Primary School\, Canterbury\, United Kingdom
ATTACH;FMTTYPE=image/png:https://codcanterburychurch.org/wp-content/uploads/2025/06/sunday-service-cos.png
ORGANIZER;CN="COD Canterbury":MAILTO:office@codcanterburychurch.org
END:VEVENT
BEGIN:VEVENT
DTSTART;TZID=Europe/London:20270423T220000
DTEND;TZID=Europe/London:20270423T233000
DTSTAMP:20260424T112914
CREATED:20250622T203835Z
LAST-MODIFIED:20250622T203835Z
UID:10000356-1808517600-1808523000@codcanterburychurch.org
SUMMARY:Connect Friday
DESCRIPTION:
URL:https://codcanterburychurch.org/index.php/event/connect-friday/2027-04-23/
LOCATION:Function Hall\, St. John’s Church of England Primary School\, Canterbury\, United Kingdom
ATTACH;FMTTYPE=image/jpeg:https://codcanterburychurch.org/wp-content/uploads/2025/06/connect-friday-cod-canterbury.jpg
ORGANIZER;CN="COD Canterbury":MAILTO:office@codcanterburychurch.org
END:VEVENT
BEGIN:VEVENT
DTSTART;TZID=Europe/London:20270425T090000
DTEND;TZID=Europe/London:20270425T110000
DTSTAMP:20260424T112914
CREATED:20250622T203547Z
LAST-MODIFIED:20250622T203547Z
UID:10000096-1808643600-1808650800@codcanterburychurch.org
SUMMARY:Sunday Service
DESCRIPTION:Sunday Service
URL:https://codcanterburychurch.org/index.php/event/sunday-service/2027-04-25/
LOCATION:Function Hall\, St. John’s Church of England Primary School\, Canterbury\, United Kingdom
ATTACH;FMTTYPE=image/png:https://codcanterburychurch.org/wp-content/uploads/2025/06/sunday-service-cos.png
ORGANIZER;CN="COD Canterbury":MAILTO:office@codcanterburychurch.org
END:VEVENT
BEGIN:VEVENT
DTSTART;TZID=Europe/London:20270425T113000
DTEND;TZID=Europe/London:20270425T140000
DTSTAMP:20260424T112914
CREATED:20251213T164232Z
LAST-MODIFIED:20251213T164232Z
UID:10000904-1808652600-1808661600@codcanterburychurch.org
SUMMARY:2nd Service - Sunday
DESCRIPTION:Sunday Service
URL:https://codcanterburychurch.org/index.php/event/2nd-service-sunday/2027-04-25/
LOCATION:Function Hall\, St. John’s Church of England Primary School\, Canterbury\, United Kingdom
ATTACH;FMTTYPE=image/png:https://codcanterburychurch.org/wp-content/uploads/2025/06/sunday-service-cos.png
ORGANIZER;CN="COD Canterbury":MAILTO:office@codcanterburychurch.org
END:VEVENT
BEGIN:VEVENT
DTSTART;TZID=Europe/London:20270430T220000
DTEND;TZID=Europe/London:20270430T233000
DTSTAMP:20260424T112914
CREATED:20250622T203835Z
LAST-MODIFIED:20250622T203835Z
UID:10000357-1809122400-1809127800@codcanterburychurch.org
SUMMARY:Connect Friday
DESCRIPTION:
URL:https://codcanterburychurch.org/index.php/event/connect-friday/2027-04-30/
LOCATION:Function Hall\, St. John’s Church of England Primary School\, Canterbury\, United Kingdom
ATTACH;FMTTYPE=image/jpeg:https://codcanterburychurch.org/wp-content/uploads/2025/06/connect-friday-cod-canterbury.jpg
ORGANIZER;CN="COD Canterbury":MAILTO:office@codcanterburychurch.org
END:VEVENT
BEGIN:VEVENT
DTSTART;TZID=Europe/London:20270502T090000
DTEND;TZID=Europe/London:20270502T110000
DTSTAMP:20260424T112914
CREATED:20250622T203547Z
LAST-MODIFIED:20250622T203547Z
UID:10000097-1809248400-1809255600@codcanterburychurch.org
SUMMARY:Sunday Service
DESCRIPTION:Sunday Service
URL:https://codcanterburychurch.org/index.php/event/sunday-service/2027-05-02/
LOCATION:Function Hall\, St. John’s Church of England Primary School\, Canterbury\, United Kingdom
ATTACH;FMTTYPE=image/png:https://codcanterburychurch.org/wp-content/uploads/2025/06/sunday-service-cos.png
ORGANIZER;CN="COD Canterbury":MAILTO:office@codcanterburychurch.org
END:VEVENT
BEGIN:VEVENT
DTSTART;TZID=Europe/London:20270502T113000
DTEND;TZID=Europe/London:20270502T140000
DTSTAMP:20260424T112914
CREATED:20251213T164232Z
LAST-MODIFIED:20251213T164232Z
UID:10000905-1809257400-1809266400@codcanterburychurch.org
SUMMARY:2nd Service - Sunday
DESCRIPTION:Sunday Service
URL:https://codcanterburychurch.org/index.php/event/2nd-service-sunday/2027-05-02/
LOCATION:Function Hall\, St. John’s Church of England Primary School\, Canterbury\, United Kingdom
ATTACH;FMTTYPE=image/png:https://codcanterburychurch.org/wp-content/uploads/2025/06/sunday-service-cos.png
ORGANIZER;CN="COD Canterbury":MAILTO:office@codcanterburychurch.org
END:VEVENT
END:VCALENDAR