BEGIN:VCALENDAR
VERSION:2.0
PRODID:-//Rccg COD Canterbury - ECPv6.13.2.1//NONSGML v1.0//EN
CALSCALE:GREGORIAN
METHOD:PUBLISH
X-WR-CALNAME:Rccg COD Canterbury
X-ORIGINAL-URL:https://codcanterburychurch.org
X-WR-CALDESC:Events for Rccg COD Canterbury
REFRESH-INTERVAL;VALUE=DURATION:PT1H
X-Robots-Tag:noindex
X-PUBLISHED-TTL:PT1H
BEGIN:VTIMEZONE
TZID:Europe/London
BEGIN:DAYLIGHT
TZOFFSETFROM:+0000
TZOFFSETTO:+0100
TZNAME:BST
DTSTART:20250330T010000
END:DAYLIGHT
BEGIN:STANDARD
TZOFFSETFROM:+0100
TZOFFSETTO:+0000
TZNAME:GMT
DTSTART:20251026T010000
END:STANDARD
END:VTIMEZONE
BEGIN:VEVENT
DTSTART;TZID=Europe/London:20251130T113000
DTEND;TZID=Europe/London:20251130T140000
DTSTAMP:20260421T170220
CREATED:20251213T164232Z
LAST-MODIFIED:20251213T164232Z
UID:10000831-1764502200-1764511200@codcanterburychurch.org
SUMMARY:2nd Service - Sunday
DESCRIPTION:Sunday Service
URL:https://codcanterburychurch.org/index.php/event/2nd-service-sunday/2025-11-30/
LOCATION:Function Hall\, St. John’s Church of England Primary School\, Canterbury\, United Kingdom
ATTACH;FMTTYPE=image/png:https://codcanterburychurch.org/wp-content/uploads/2025/06/sunday-service-cos.png
ORGANIZER;CN="COD Canterbury":MAILTO:office@codcanterburychurch.org
END:VEVENT
BEGIN:VEVENT
DTSTART;TZID=Europe/London:20251130T090000
DTEND;TZID=Europe/London:20251130T110000
DTSTAMP:20260421T170220
CREATED:20250622T203547Z
LAST-MODIFIED:20250622T203547Z
UID:10000023-1764493200-1764500400@codcanterburychurch.org
SUMMARY:Sunday Service
DESCRIPTION:Sunday Service
URL:https://codcanterburychurch.org/index.php/event/sunday-service/2025-11-30/
LOCATION:Function Hall\, St. John’s Church of England Primary School\, Canterbury\, United Kingdom
ATTACH;FMTTYPE=image/png:https://codcanterburychurch.org/wp-content/uploads/2025/06/sunday-service-cos.png
ORGANIZER;CN="COD Canterbury":MAILTO:office@codcanterburychurch.org
END:VEVENT
BEGIN:VEVENT
DTSTART;TZID=Europe/London:20251128T220000
DTEND;TZID=Europe/London:20251128T233000
DTSTAMP:20260421T170220
CREATED:20250622T203835Z
LAST-MODIFIED:20250622T203835Z
UID:10000283-1764367200-1764372600@codcanterburychurch.org
SUMMARY:Connect Friday
DESCRIPTION:
URL:https://codcanterburychurch.org/index.php/event/connect-friday/2025-11-28/
LOCATION:Function Hall\, St. John’s Church of England Primary School\, Canterbury\, United Kingdom
ATTACH;FMTTYPE=image/jpeg:https://codcanterburychurch.org/wp-content/uploads/2025/06/connect-friday-cod-canterbury.jpg
ORGANIZER;CN="COD Canterbury":MAILTO:office@codcanterburychurch.org
END:VEVENT
BEGIN:VEVENT
DTSTART;TZID=Europe/London:20251123T113000
DTEND;TZID=Europe/London:20251123T140000
DTSTAMP:20260421T170220
CREATED:20251213T164232Z
LAST-MODIFIED:20251213T164232Z
UID:10000830-1763897400-1763906400@codcanterburychurch.org
SUMMARY:2nd Service - Sunday
DESCRIPTION:Sunday Service
URL:https://codcanterburychurch.org/index.php/event/2nd-service-sunday/2025-11-23/
LOCATION:Function Hall\, St. John’s Church of England Primary School\, Canterbury\, United Kingdom
ATTACH;FMTTYPE=image/png:https://codcanterburychurch.org/wp-content/uploads/2025/06/sunday-service-cos.png
ORGANIZER;CN="COD Canterbury":MAILTO:office@codcanterburychurch.org
END:VEVENT
BEGIN:VEVENT
DTSTART;TZID=Europe/London:20251123T090000
DTEND;TZID=Europe/London:20251123T110000
DTSTAMP:20260421T170220
CREATED:20250622T203547Z
LAST-MODIFIED:20250622T203547Z
UID:10000022-1763888400-1763895600@codcanterburychurch.org
SUMMARY:Sunday Service
DESCRIPTION:Sunday Service
URL:https://codcanterburychurch.org/index.php/event/sunday-service/2025-11-23/
LOCATION:Function Hall\, St. John’s Church of England Primary School\, Canterbury\, United Kingdom
ATTACH;FMTTYPE=image/png:https://codcanterburychurch.org/wp-content/uploads/2025/06/sunday-service-cos.png
ORGANIZER;CN="COD Canterbury":MAILTO:office@codcanterburychurch.org
END:VEVENT
BEGIN:VEVENT
DTSTART;TZID=Europe/London:20251121T220000
DTEND;TZID=Europe/London:20251121T233000
DTSTAMP:20260421T170220
CREATED:20250622T203835Z
LAST-MODIFIED:20250622T203835Z
UID:10000282-1763762400-1763767800@codcanterburychurch.org
SUMMARY:Connect Friday
DESCRIPTION:
URL:https://codcanterburychurch.org/index.php/event/connect-friday/2025-11-21/
LOCATION:Function Hall\, St. John’s Church of England Primary School\, Canterbury\, United Kingdom
ATTACH;FMTTYPE=image/jpeg:https://codcanterburychurch.org/wp-content/uploads/2025/06/connect-friday-cod-canterbury.jpg
ORGANIZER;CN="COD Canterbury":MAILTO:office@codcanterburychurch.org
END:VEVENT
BEGIN:VEVENT
DTSTART;TZID=Europe/London:20251116T113000
DTEND;TZID=Europe/London:20251116T140000
DTSTAMP:20260421T170220
CREATED:20251213T164232Z
LAST-MODIFIED:20251213T164232Z
UID:10000829-1763292600-1763301600@codcanterburychurch.org
SUMMARY:2nd Service - Sunday
DESCRIPTION:Sunday Service
URL:https://codcanterburychurch.org/index.php/event/2nd-service-sunday/2025-11-16/
LOCATION:Function Hall\, St. John’s Church of England Primary School\, Canterbury\, United Kingdom
ATTACH;FMTTYPE=image/png:https://codcanterburychurch.org/wp-content/uploads/2025/06/sunday-service-cos.png
ORGANIZER;CN="COD Canterbury":MAILTO:office@codcanterburychurch.org
END:VEVENT
BEGIN:VEVENT
DTSTART;TZID=Europe/London:20251116T090000
DTEND;TZID=Europe/London:20251116T110000
DTSTAMP:20260421T170220
CREATED:20250622T203547Z
LAST-MODIFIED:20250622T203547Z
UID:10000021-1763283600-1763290800@codcanterburychurch.org
SUMMARY:Sunday Service
DESCRIPTION:Sunday Service
URL:https://codcanterburychurch.org/index.php/event/sunday-service/2025-11-16/
LOCATION:Function Hall\, St. John’s Church of England Primary School\, Canterbury\, United Kingdom
ATTACH;FMTTYPE=image/png:https://codcanterburychurch.org/wp-content/uploads/2025/06/sunday-service-cos.png
ORGANIZER;CN="COD Canterbury":MAILTO:office@codcanterburychurch.org
END:VEVENT
BEGIN:VEVENT
DTSTART;TZID=Europe/London:20251114T220000
DTEND;TZID=Europe/London:20251114T233000
DTSTAMP:20260421T170220
CREATED:20250622T203835Z
LAST-MODIFIED:20250622T203835Z
UID:10000281-1763157600-1763163000@codcanterburychurch.org
SUMMARY:Connect Friday
DESCRIPTION:
URL:https://codcanterburychurch.org/index.php/event/connect-friday/2025-11-14/
LOCATION:Function Hall\, St. John’s Church of England Primary School\, Canterbury\, United Kingdom
ATTACH;FMTTYPE=image/jpeg:https://codcanterburychurch.org/wp-content/uploads/2025/06/connect-friday-cod-canterbury.jpg
ORGANIZER;CN="COD Canterbury":MAILTO:office@codcanterburychurch.org
END:VEVENT
BEGIN:VEVENT
DTSTART;TZID=Europe/London:20251109T113000
DTEND;TZID=Europe/London:20251109T140000
DTSTAMP:20260421T170220
CREATED:20251213T164232Z
LAST-MODIFIED:20251213T164232Z
UID:10000828-1762687800-1762696800@codcanterburychurch.org
SUMMARY:2nd Service - Sunday
DESCRIPTION:Sunday Service
URL:https://codcanterburychurch.org/index.php/event/2nd-service-sunday/2025-11-09/
LOCATION:Function Hall\, St. John’s Church of England Primary School\, Canterbury\, United Kingdom
ATTACH;FMTTYPE=image/png:https://codcanterburychurch.org/wp-content/uploads/2025/06/sunday-service-cos.png
ORGANIZER;CN="COD Canterbury":MAILTO:office@codcanterburychurch.org
END:VEVENT
BEGIN:VEVENT
DTSTART;TZID=Europe/London:20251109T090000
DTEND;TZID=Europe/London:20251109T110000
DTSTAMP:20260421T170220
CREATED:20250622T203547Z
LAST-MODIFIED:20250622T203547Z
UID:10000020-1762678800-1762686000@codcanterburychurch.org
SUMMARY:Sunday Service
DESCRIPTION:Sunday Service
URL:https://codcanterburychurch.org/index.php/event/sunday-service/2025-11-09/
LOCATION:Function Hall\, St. John’s Church of England Primary School\, Canterbury\, United Kingdom
ATTACH;FMTTYPE=image/png:https://codcanterburychurch.org/wp-content/uploads/2025/06/sunday-service-cos.png
ORGANIZER;CN="COD Canterbury":MAILTO:office@codcanterburychurch.org
END:VEVENT
BEGIN:VEVENT
DTSTART;TZID=Europe/London:20251107T220000
DTEND;TZID=Europe/London:20251107T233000
DTSTAMP:20260421T170220
CREATED:20250622T203835Z
LAST-MODIFIED:20250622T203835Z
UID:10000280-1762552800-1762558200@codcanterburychurch.org
SUMMARY:Connect Friday
DESCRIPTION:
URL:https://codcanterburychurch.org/index.php/event/connect-friday/2025-11-07/
LOCATION:Function Hall\, St. John’s Church of England Primary School\, Canterbury\, United Kingdom
ATTACH;FMTTYPE=image/jpeg:https://codcanterburychurch.org/wp-content/uploads/2025/06/connect-friday-cod-canterbury.jpg
ORGANIZER;CN="COD Canterbury":MAILTO:office@codcanterburychurch.org
END:VEVENT
BEGIN:VEVENT
DTSTART;TZID=Europe/London:20251102T113000
DTEND;TZID=Europe/London:20251102T140000
DTSTAMP:20260421T170220
CREATED:20251213T164232Z
LAST-MODIFIED:20251213T164232Z
UID:10000827-1762083000-1762092000@codcanterburychurch.org
SUMMARY:2nd Service - Sunday
DESCRIPTION:Sunday Service
URL:https://codcanterburychurch.org/index.php/event/2nd-service-sunday/2025-11-02/
LOCATION:Function Hall\, St. John’s Church of England Primary School\, Canterbury\, United Kingdom
ATTACH;FMTTYPE=image/png:https://codcanterburychurch.org/wp-content/uploads/2025/06/sunday-service-cos.png
ORGANIZER;CN="COD Canterbury":MAILTO:office@codcanterburychurch.org
END:VEVENT
BEGIN:VEVENT
DTSTART;TZID=Europe/London:20251102T090000
DTEND;TZID=Europe/London:20251102T110000
DTSTAMP:20260421T170220
CREATED:20250622T203547Z
LAST-MODIFIED:20250622T203547Z
UID:10000019-1762074000-1762081200@codcanterburychurch.org
SUMMARY:Sunday Service
DESCRIPTION:Sunday Service
URL:https://codcanterburychurch.org/index.php/event/sunday-service/2025-11-02/
LOCATION:Function Hall\, St. John’s Church of England Primary School\, Canterbury\, United Kingdom
ATTACH;FMTTYPE=image/png:https://codcanterburychurch.org/wp-content/uploads/2025/06/sunday-service-cos.png
ORGANIZER;CN="COD Canterbury":MAILTO:office@codcanterburychurch.org
END:VEVENT
BEGIN:VEVENT
DTSTART;TZID=Europe/London:20251031T220000
DTEND;TZID=Europe/London:20251031T233000
DTSTAMP:20260421T170220
CREATED:20250622T203835Z
LAST-MODIFIED:20250622T203835Z
UID:10000279-1761948000-1761953400@codcanterburychurch.org
SUMMARY:Connect Friday
DESCRIPTION:
URL:https://codcanterburychurch.org/index.php/event/connect-friday/2025-10-31/
LOCATION:Function Hall\, St. John’s Church of England Primary School\, Canterbury\, United Kingdom
ATTACH;FMTTYPE=image/jpeg:https://codcanterburychurch.org/wp-content/uploads/2025/06/connect-friday-cod-canterbury.jpg
ORGANIZER;CN="COD Canterbury":MAILTO:office@codcanterburychurch.org
END:VEVENT
BEGIN:VEVENT
DTSTART;TZID=Europe/London:20251026T113000
DTEND;TZID=Europe/London:20251026T140000
DTSTAMP:20260421T170220
CREATED:20251213T164232Z
LAST-MODIFIED:20251213T164232Z
UID:10000826-1761478200-1761487200@codcanterburychurch.org
SUMMARY:2nd Service - Sunday
DESCRIPTION:Sunday Service
URL:https://codcanterburychurch.org/index.php/event/2nd-service-sunday/2025-10-26/
LOCATION:Function Hall\, St. John’s Church of England Primary School\, Canterbury\, United Kingdom
ATTACH;FMTTYPE=image/png:https://codcanterburychurch.org/wp-content/uploads/2025/06/sunday-service-cos.png
ORGANIZER;CN="COD Canterbury":MAILTO:office@codcanterburychurch.org
END:VEVENT
BEGIN:VEVENT
DTSTART;TZID=Europe/London:20251026T090000
DTEND;TZID=Europe/London:20251026T110000
DTSTAMP:20260421T170220
CREATED:20250622T203547Z
LAST-MODIFIED:20250622T203547Z
UID:10000018-1761469200-1761476400@codcanterburychurch.org
SUMMARY:Sunday Service
DESCRIPTION:Sunday Service
URL:https://codcanterburychurch.org/index.php/event/sunday-service/2025-10-26/
LOCATION:Function Hall\, St. John’s Church of England Primary School\, Canterbury\, United Kingdom
ATTACH;FMTTYPE=image/png:https://codcanterburychurch.org/wp-content/uploads/2025/06/sunday-service-cos.png
ORGANIZER;CN="COD Canterbury":MAILTO:office@codcanterburychurch.org
END:VEVENT
BEGIN:VEVENT
DTSTART;TZID=Europe/London:20251024T220000
DTEND;TZID=Europe/London:20251024T233000
DTSTAMP:20260421T170220
CREATED:20250622T203835Z
LAST-MODIFIED:20250622T203835Z
UID:10000278-1761343200-1761348600@codcanterburychurch.org
SUMMARY:Connect Friday
DESCRIPTION:
URL:https://codcanterburychurch.org/index.php/event/connect-friday/2025-10-24/
LOCATION:Function Hall\, St. John’s Church of England Primary School\, Canterbury\, United Kingdom
ATTACH;FMTTYPE=image/jpeg:https://codcanterburychurch.org/wp-content/uploads/2025/06/connect-friday-cod-canterbury.jpg
ORGANIZER;CN="COD Canterbury":MAILTO:office@codcanterburychurch.org
END:VEVENT
BEGIN:VEVENT
DTSTART;TZID=Europe/London:20251019T113000
DTEND;TZID=Europe/London:20251019T140000
DTSTAMP:20260421T170220
CREATED:20251213T164232Z
LAST-MODIFIED:20251213T164232Z
UID:10000825-1760873400-1760882400@codcanterburychurch.org
SUMMARY:2nd Service - Sunday
DESCRIPTION:Sunday Service
URL:https://codcanterburychurch.org/index.php/event/2nd-service-sunday/2025-10-19/
LOCATION:Function Hall\, St. John’s Church of England Primary School\, Canterbury\, United Kingdom
ATTACH;FMTTYPE=image/png:https://codcanterburychurch.org/wp-content/uploads/2025/06/sunday-service-cos.png
ORGANIZER;CN="COD Canterbury":MAILTO:office@codcanterburychurch.org
END:VEVENT
BEGIN:VEVENT
DTSTART;TZID=Europe/London:20251019T090000
DTEND;TZID=Europe/London:20251019T110000
DTSTAMP:20260421T170220
CREATED:20250622T203547Z
LAST-MODIFIED:20250622T203547Z
UID:10000017-1760864400-1760871600@codcanterburychurch.org
SUMMARY:Sunday Service
DESCRIPTION:Sunday Service
URL:https://codcanterburychurch.org/index.php/event/sunday-service/2025-10-19/
LOCATION:Function Hall\, St. John’s Church of England Primary School\, Canterbury\, United Kingdom
ATTACH;FMTTYPE=image/png:https://codcanterburychurch.org/wp-content/uploads/2025/06/sunday-service-cos.png
ORGANIZER;CN="COD Canterbury":MAILTO:office@codcanterburychurch.org
END:VEVENT
BEGIN:VEVENT
DTSTART;TZID=Europe/London:20251017T220000
DTEND;TZID=Europe/London:20251017T233000
DTSTAMP:20260421T170220
CREATED:20250622T203835Z
LAST-MODIFIED:20250622T203835Z
UID:10000277-1760738400-1760743800@codcanterburychurch.org
SUMMARY:Connect Friday
DESCRIPTION:
URL:https://codcanterburychurch.org/index.php/event/connect-friday/2025-10-17/
LOCATION:Function Hall\, St. John’s Church of England Primary School\, Canterbury\, United Kingdom
ATTACH;FMTTYPE=image/jpeg:https://codcanterburychurch.org/wp-content/uploads/2025/06/connect-friday-cod-canterbury.jpg
ORGANIZER;CN="COD Canterbury":MAILTO:office@codcanterburychurch.org
END:VEVENT
BEGIN:VEVENT
DTSTART;TZID=Europe/London:20251012T113000
DTEND;TZID=Europe/London:20251012T140000
DTSTAMP:20260421T170220
CREATED:20251213T164232Z
LAST-MODIFIED:20251213T164232Z
UID:10000824-1760268600-1760277600@codcanterburychurch.org
SUMMARY:2nd Service - Sunday
DESCRIPTION:Sunday Service
URL:https://codcanterburychurch.org/index.php/event/2nd-service-sunday/2025-10-12/
LOCATION:Function Hall\, St. John’s Church of England Primary School\, Canterbury\, United Kingdom
ATTACH;FMTTYPE=image/png:https://codcanterburychurch.org/wp-content/uploads/2025/06/sunday-service-cos.png
ORGANIZER;CN="COD Canterbury":MAILTO:office@codcanterburychurch.org
END:VEVENT
BEGIN:VEVENT
DTSTART;TZID=Europe/London:20251012T090000
DTEND;TZID=Europe/London:20251012T110000
DTSTAMP:20260421T170220
CREATED:20250622T203547Z
LAST-MODIFIED:20250622T203547Z
UID:10000016-1760259600-1760266800@codcanterburychurch.org
SUMMARY:Sunday Service
DESCRIPTION:Sunday Service
URL:https://codcanterburychurch.org/index.php/event/sunday-service/2025-10-12/
LOCATION:Function Hall\, St. John’s Church of England Primary School\, Canterbury\, United Kingdom
ATTACH;FMTTYPE=image/png:https://codcanterburychurch.org/wp-content/uploads/2025/06/sunday-service-cos.png
ORGANIZER;CN="COD Canterbury":MAILTO:office@codcanterburychurch.org
END:VEVENT
BEGIN:VEVENT
DTSTART;TZID=Europe/London:20251010T220000
DTEND;TZID=Europe/London:20251010T233000
DTSTAMP:20260421T170220
CREATED:20250622T203835Z
LAST-MODIFIED:20250622T203835Z
UID:10000276-1760133600-1760139000@codcanterburychurch.org
SUMMARY:Connect Friday
DESCRIPTION:
URL:https://codcanterburychurch.org/index.php/event/connect-friday/2025-10-10/
LOCATION:Function Hall\, St. John’s Church of England Primary School\, Canterbury\, United Kingdom
ATTACH;FMTTYPE=image/jpeg:https://codcanterburychurch.org/wp-content/uploads/2025/06/connect-friday-cod-canterbury.jpg
ORGANIZER;CN="COD Canterbury":MAILTO:office@codcanterburychurch.org
END:VEVENT
BEGIN:VEVENT
DTSTART;TZID=Europe/London:20251005T113000
DTEND;TZID=Europe/London:20251005T140000
DTSTAMP:20260421T170220
CREATED:20251213T164232Z
LAST-MODIFIED:20251213T164232Z
UID:10000823-1759663800-1759672800@codcanterburychurch.org
SUMMARY:2nd Service - Sunday
DESCRIPTION:Sunday Service
URL:https://codcanterburychurch.org/index.php/event/2nd-service-sunday/2025-10-05/
LOCATION:Function Hall\, St. John’s Church of England Primary School\, Canterbury\, United Kingdom
ATTACH;FMTTYPE=image/png:https://codcanterburychurch.org/wp-content/uploads/2025/06/sunday-service-cos.png
ORGANIZER;CN="COD Canterbury":MAILTO:office@codcanterburychurch.org
END:VEVENT
BEGIN:VEVENT
DTSTART;TZID=Europe/London:20251005T090000
DTEND;TZID=Europe/London:20251005T110000
DTSTAMP:20260421T170220
CREATED:20250622T203547Z
LAST-MODIFIED:20250622T203547Z
UID:10000015-1759654800-1759662000@codcanterburychurch.org
SUMMARY:Sunday Service
DESCRIPTION:Sunday Service
URL:https://codcanterburychurch.org/index.php/event/sunday-service/2025-10-05/
LOCATION:Function Hall\, St. John’s Church of England Primary School\, Canterbury\, United Kingdom
ATTACH;FMTTYPE=image/png:https://codcanterburychurch.org/wp-content/uploads/2025/06/sunday-service-cos.png
ORGANIZER;CN="COD Canterbury":MAILTO:office@codcanterburychurch.org
END:VEVENT
BEGIN:VEVENT
DTSTART;TZID=Europe/London:20251003T220000
DTEND;TZID=Europe/London:20251003T233000
DTSTAMP:20260421T170220
CREATED:20250622T203835Z
LAST-MODIFIED:20250622T203835Z
UID:10000275-1759528800-1759534200@codcanterburychurch.org
SUMMARY:Connect Friday
DESCRIPTION:
URL:https://codcanterburychurch.org/index.php/event/connect-friday/2025-10-03/
LOCATION:Function Hall\, St. John’s Church of England Primary School\, Canterbury\, United Kingdom
ATTACH;FMTTYPE=image/jpeg:https://codcanterburychurch.org/wp-content/uploads/2025/06/connect-friday-cod-canterbury.jpg
ORGANIZER;CN="COD Canterbury":MAILTO:office@codcanterburychurch.org
END:VEVENT
BEGIN:VEVENT
DTSTART;TZID=Europe/London:20250928T113000
DTEND;TZID=Europe/London:20250928T140000
DTSTAMP:20260421T170220
CREATED:20251213T164232Z
LAST-MODIFIED:20251213T164232Z
UID:10000822-1759059000-1759068000@codcanterburychurch.org
SUMMARY:2nd Service - Sunday
DESCRIPTION:Sunday Service
URL:https://codcanterburychurch.org/index.php/event/2nd-service-sunday/2025-09-28/
LOCATION:Function Hall\, St. John’s Church of England Primary School\, Canterbury\, United Kingdom
ATTACH;FMTTYPE=image/png:https://codcanterburychurch.org/wp-content/uploads/2025/06/sunday-service-cos.png
ORGANIZER;CN="COD Canterbury":MAILTO:office@codcanterburychurch.org
END:VEVENT
BEGIN:VEVENT
DTSTART;TZID=Europe/London:20250928T090000
DTEND;TZID=Europe/London:20250928T110000
DTSTAMP:20260421T170220
CREATED:20250622T203547Z
LAST-MODIFIED:20250622T203547Z
UID:10000014-1759050000-1759057200@codcanterburychurch.org
SUMMARY:Sunday Service
DESCRIPTION:Sunday Service
URL:https://codcanterburychurch.org/index.php/event/sunday-service/2025-09-28/
LOCATION:Function Hall\, St. John’s Church of England Primary School\, Canterbury\, United Kingdom
ATTACH;FMTTYPE=image/png:https://codcanterburychurch.org/wp-content/uploads/2025/06/sunday-service-cos.png
ORGANIZER;CN="COD Canterbury":MAILTO:office@codcanterburychurch.org
END:VEVENT
BEGIN:VEVENT
DTSTART;TZID=Europe/London:20250926T220000
DTEND;TZID=Europe/London:20250926T233000
DTSTAMP:20260421T170221
CREATED:20250622T203835Z
LAST-MODIFIED:20250622T203835Z
UID:10000274-1758924000-1758929400@codcanterburychurch.org
SUMMARY:Connect Friday
DESCRIPTION:
URL:https://codcanterburychurch.org/index.php/event/connect-friday/2025-09-26/
LOCATION:Function Hall\, St. John’s Church of England Primary School\, Canterbury\, United Kingdom
ATTACH;FMTTYPE=image/jpeg:https://codcanterburychurch.org/wp-content/uploads/2025/06/connect-friday-cod-canterbury.jpg
ORGANIZER;CN="COD Canterbury":MAILTO:office@codcanterburychurch.org
END:VEVENT
END:VCALENDAR