BEGIN:VCALENDAR
VERSION:2.0
PRODID:-//Rccg COD Canterbury - ECPv6.13.2.1//NONSGML v1.0//EN
CALSCALE:GREGORIAN
METHOD:PUBLISH
X-ORIGINAL-URL:https://codcanterburychurch.org
X-WR-CALDESC:Events for Rccg COD Canterbury
REFRESH-INTERVAL;VALUE=DURATION:PT1H
X-Robots-Tag:noindex
X-PUBLISHED-TTL:PT1H
BEGIN:VTIMEZONE
TZID:Europe/London
BEGIN:DAYLIGHT
TZOFFSETFROM:+0000
TZOFFSETTO:+0100
TZNAME:BST
DTSTART:20250330T010000
END:DAYLIGHT
BEGIN:STANDARD
TZOFFSETFROM:+0100
TZOFFSETTO:+0000
TZNAME:GMT
DTSTART:20251026T010000
END:STANDARD
END:VTIMEZONE
BEGIN:VEVENT
DTSTART;TZID=Europe/London:20251005T113000
DTEND;TZID=Europe/London:20251005T140000
DTSTAMP:20260421T202258
CREATED:20251213T164232Z
LAST-MODIFIED:20251213T164232Z
UID:10000823-1759663800-1759672800@codcanterburychurch.org
SUMMARY:2nd Service - Sunday
DESCRIPTION:Sunday Service
URL:https://codcanterburychurch.org/index.php/event/2nd-service-sunday/2025-10-05/
LOCATION:Function Hall\, St. John’s Church of England Primary School\, Canterbury\, United Kingdom
ATTACH;FMTTYPE=image/png:https://codcanterburychurch.org/wp-content/uploads/2025/06/sunday-service-cos.png
ORGANIZER;CN="COD Canterbury":MAILTO:office@codcanterburychurch.org
END:VEVENT
BEGIN:VEVENT
DTSTART;TZID=Europe/London:20251005T090000
DTEND;TZID=Europe/London:20251005T110000
DTSTAMP:20260421T202258
CREATED:20250622T203547Z
LAST-MODIFIED:20250622T203547Z
UID:10000015-1759654800-1759662000@codcanterburychurch.org
SUMMARY:Sunday Service
DESCRIPTION:Sunday Service
URL:https://codcanterburychurch.org/index.php/event/sunday-service/2025-10-05/
LOCATION:Function Hall\, St. John’s Church of England Primary School\, Canterbury\, United Kingdom
ATTACH;FMTTYPE=image/png:https://codcanterburychurch.org/wp-content/uploads/2025/06/sunday-service-cos.png
ORGANIZER;CN="COD Canterbury":MAILTO:office@codcanterburychurch.org
END:VEVENT
BEGIN:VEVENT
DTSTART;TZID=Europe/London:20251003T220000
DTEND;TZID=Europe/London:20251003T233000
DTSTAMP:20260421T202258
CREATED:20250622T203835Z
LAST-MODIFIED:20250622T203835Z
UID:10000275-1759528800-1759534200@codcanterburychurch.org
SUMMARY:Connect Friday
DESCRIPTION:
URL:https://codcanterburychurch.org/index.php/event/connect-friday/2025-10-03/
LOCATION:Function Hall\, St. John’s Church of England Primary School\, Canterbury\, United Kingdom
ATTACH;FMTTYPE=image/jpeg:https://codcanterburychurch.org/wp-content/uploads/2025/06/connect-friday-cod-canterbury.jpg
ORGANIZER;CN="COD Canterbury":MAILTO:office@codcanterburychurch.org
END:VEVENT
BEGIN:VEVENT
DTSTART;TZID=Europe/London:20250928T113000
DTEND;TZID=Europe/London:20250928T140000
DTSTAMP:20260421T202258
CREATED:20251213T164232Z
LAST-MODIFIED:20251213T164232Z
UID:10000822-1759059000-1759068000@codcanterburychurch.org
SUMMARY:2nd Service - Sunday
DESCRIPTION:Sunday Service
URL:https://codcanterburychurch.org/index.php/event/2nd-service-sunday/2025-09-28/
LOCATION:Function Hall\, St. John’s Church of England Primary School\, Canterbury\, United Kingdom
ATTACH;FMTTYPE=image/png:https://codcanterburychurch.org/wp-content/uploads/2025/06/sunday-service-cos.png
ORGANIZER;CN="COD Canterbury":MAILTO:office@codcanterburychurch.org
END:VEVENT
BEGIN:VEVENT
DTSTART;TZID=Europe/London:20250928T090000
DTEND;TZID=Europe/London:20250928T110000
DTSTAMP:20260421T202258
CREATED:20250622T203547Z
LAST-MODIFIED:20250622T203547Z
UID:10000014-1759050000-1759057200@codcanterburychurch.org
SUMMARY:Sunday Service
DESCRIPTION:Sunday Service
URL:https://codcanterburychurch.org/index.php/event/sunday-service/2025-09-28/
LOCATION:Function Hall\, St. John’s Church of England Primary School\, Canterbury\, United Kingdom
ATTACH;FMTTYPE=image/png:https://codcanterburychurch.org/wp-content/uploads/2025/06/sunday-service-cos.png
ORGANIZER;CN="COD Canterbury":MAILTO:office@codcanterburychurch.org
END:VEVENT
BEGIN:VEVENT
DTSTART;TZID=Europe/London:20250926T220000
DTEND;TZID=Europe/London:20250926T233000
DTSTAMP:20260421T202258
CREATED:20250622T203835Z
LAST-MODIFIED:20250622T203835Z
UID:10000274-1758924000-1758929400@codcanterburychurch.org
SUMMARY:Connect Friday
DESCRIPTION:
URL:https://codcanterburychurch.org/index.php/event/connect-friday/2025-09-26/
LOCATION:Function Hall\, St. John’s Church of England Primary School\, Canterbury\, United Kingdom
ATTACH;FMTTYPE=image/jpeg:https://codcanterburychurch.org/wp-content/uploads/2025/06/connect-friday-cod-canterbury.jpg
ORGANIZER;CN="COD Canterbury":MAILTO:office@codcanterburychurch.org
END:VEVENT
BEGIN:VEVENT
DTSTART;TZID=Europe/London:20250921T113000
DTEND;TZID=Europe/London:20250921T140000
DTSTAMP:20260421T202258
CREATED:20251213T164232Z
LAST-MODIFIED:20251213T164232Z
UID:10000821-1758454200-1758463200@codcanterburychurch.org
SUMMARY:2nd Service - Sunday
DESCRIPTION:Sunday Service
URL:https://codcanterburychurch.org/index.php/event/2nd-service-sunday/2025-09-21/
LOCATION:Function Hall\, St. John’s Church of England Primary School\, Canterbury\, United Kingdom
ATTACH;FMTTYPE=image/png:https://codcanterburychurch.org/wp-content/uploads/2025/06/sunday-service-cos.png
ORGANIZER;CN="COD Canterbury":MAILTO:office@codcanterburychurch.org
END:VEVENT
BEGIN:VEVENT
DTSTART;TZID=Europe/London:20250921T090000
DTEND;TZID=Europe/London:20250921T110000
DTSTAMP:20260421T202258
CREATED:20250622T203547Z
LAST-MODIFIED:20250622T203547Z
UID:10000013-1758445200-1758452400@codcanterburychurch.org
SUMMARY:Sunday Service
DESCRIPTION:Sunday Service
URL:https://codcanterburychurch.org/index.php/event/sunday-service/2025-09-21/
LOCATION:Function Hall\, St. John’s Church of England Primary School\, Canterbury\, United Kingdom
ATTACH;FMTTYPE=image/png:https://codcanterburychurch.org/wp-content/uploads/2025/06/sunday-service-cos.png
ORGANIZER;CN="COD Canterbury":MAILTO:office@codcanterburychurch.org
END:VEVENT
BEGIN:VEVENT
DTSTART;TZID=Europe/London:20250919T220000
DTEND;TZID=Europe/London:20250919T233000
DTSTAMP:20260421T202258
CREATED:20250622T203835Z
LAST-MODIFIED:20250622T203835Z
UID:10000273-1758319200-1758324600@codcanterburychurch.org
SUMMARY:Connect Friday
DESCRIPTION:
URL:https://codcanterburychurch.org/index.php/event/connect-friday/2025-09-19/
LOCATION:Function Hall\, St. John’s Church of England Primary School\, Canterbury\, United Kingdom
ATTACH;FMTTYPE=image/jpeg:https://codcanterburychurch.org/wp-content/uploads/2025/06/connect-friday-cod-canterbury.jpg
ORGANIZER;CN="COD Canterbury":MAILTO:office@codcanterburychurch.org
END:VEVENT
BEGIN:VEVENT
DTSTART;TZID=Europe/London:20250914T113000
DTEND;TZID=Europe/London:20250914T140000
DTSTAMP:20260421T202258
CREATED:20251213T164232Z
LAST-MODIFIED:20251213T164232Z
UID:10000820-1757849400-1757858400@codcanterburychurch.org
SUMMARY:2nd Service - Sunday
DESCRIPTION:Sunday Service
URL:https://codcanterburychurch.org/index.php/event/2nd-service-sunday/2025-09-14/
LOCATION:Function Hall\, St. John’s Church of England Primary School\, Canterbury\, United Kingdom
ATTACH;FMTTYPE=image/png:https://codcanterburychurch.org/wp-content/uploads/2025/06/sunday-service-cos.png
ORGANIZER;CN="COD Canterbury":MAILTO:office@codcanterburychurch.org
END:VEVENT
BEGIN:VEVENT
DTSTART;TZID=Europe/London:20250914T090000
DTEND;TZID=Europe/London:20250914T110000
DTSTAMP:20260421T202258
CREATED:20250622T203547Z
LAST-MODIFIED:20250622T203547Z
UID:10000012-1757840400-1757847600@codcanterburychurch.org
SUMMARY:Sunday Service
DESCRIPTION:Sunday Service
URL:https://codcanterburychurch.org/index.php/event/sunday-service/2025-09-14/
LOCATION:Function Hall\, St. John’s Church of England Primary School\, Canterbury\, United Kingdom
ATTACH;FMTTYPE=image/png:https://codcanterburychurch.org/wp-content/uploads/2025/06/sunday-service-cos.png
ORGANIZER;CN="COD Canterbury":MAILTO:office@codcanterburychurch.org
END:VEVENT
BEGIN:VEVENT
DTSTART;TZID=Europe/London:20250912T220000
DTEND;TZID=Europe/London:20250912T233000
DTSTAMP:20260421T202258
CREATED:20250622T203835Z
LAST-MODIFIED:20250622T203835Z
UID:10000272-1757714400-1757719800@codcanterburychurch.org
SUMMARY:Connect Friday
DESCRIPTION:
URL:https://codcanterburychurch.org/index.php/event/connect-friday/2025-09-12/
LOCATION:Function Hall\, St. John’s Church of England Primary School\, Canterbury\, United Kingdom
ATTACH;FMTTYPE=image/jpeg:https://codcanterburychurch.org/wp-content/uploads/2025/06/connect-friday-cod-canterbury.jpg
ORGANIZER;CN="COD Canterbury":MAILTO:office@codcanterburychurch.org
END:VEVENT
BEGIN:VEVENT
DTSTART;TZID=Europe/London:20250907T113000
DTEND;TZID=Europe/London:20250907T140000
DTSTAMP:20260421T202258
CREATED:20251213T164232Z
LAST-MODIFIED:20251213T164232Z
UID:10000819-1757244600-1757253600@codcanterburychurch.org
SUMMARY:2nd Service - Sunday
DESCRIPTION:Sunday Service
URL:https://codcanterburychurch.org/index.php/event/2nd-service-sunday/2025-09-07/
LOCATION:Function Hall\, St. John’s Church of England Primary School\, Canterbury\, United Kingdom
ATTACH;FMTTYPE=image/png:https://codcanterburychurch.org/wp-content/uploads/2025/06/sunday-service-cos.png
ORGANIZER;CN="COD Canterbury":MAILTO:office@codcanterburychurch.org
END:VEVENT
BEGIN:VEVENT
DTSTART;TZID=Europe/London:20250907T090000
DTEND;TZID=Europe/London:20250907T110000
DTSTAMP:20260421T202258
CREATED:20250622T203547Z
LAST-MODIFIED:20250622T203547Z
UID:10000011-1757235600-1757242800@codcanterburychurch.org
SUMMARY:Sunday Service
DESCRIPTION:Sunday Service
URL:https://codcanterburychurch.org/index.php/event/sunday-service/2025-09-07/
LOCATION:Function Hall\, St. John’s Church of England Primary School\, Canterbury\, United Kingdom
ATTACH;FMTTYPE=image/png:https://codcanterburychurch.org/wp-content/uploads/2025/06/sunday-service-cos.png
ORGANIZER;CN="COD Canterbury":MAILTO:office@codcanterburychurch.org
END:VEVENT
BEGIN:VEVENT
DTSTART;TZID=Europe/London:20250905T220000
DTEND;TZID=Europe/London:20250905T233000
DTSTAMP:20260421T202258
CREATED:20250622T203835Z
LAST-MODIFIED:20250622T203835Z
UID:10000271-1757109600-1757115000@codcanterburychurch.org
SUMMARY:Connect Friday
DESCRIPTION:
URL:https://codcanterburychurch.org/index.php/event/connect-friday/2025-09-05/
LOCATION:Function Hall\, St. John’s Church of England Primary School\, Canterbury\, United Kingdom
ATTACH;FMTTYPE=image/jpeg:https://codcanterburychurch.org/wp-content/uploads/2025/06/connect-friday-cod-canterbury.jpg
ORGANIZER;CN="COD Canterbury":MAILTO:office@codcanterburychurch.org
END:VEVENT
BEGIN:VEVENT
DTSTART;TZID=Europe/London:20250831T113000
DTEND;TZID=Europe/London:20250831T140000
DTSTAMP:20260421T202258
CREATED:20251213T164232Z
LAST-MODIFIED:20251213T164232Z
UID:10000818-1756639800-1756648800@codcanterburychurch.org
SUMMARY:2nd Service - Sunday
DESCRIPTION:Sunday Service
URL:https://codcanterburychurch.org/index.php/event/2nd-service-sunday/2025-08-31/
LOCATION:Function Hall\, St. John’s Church of England Primary School\, Canterbury\, United Kingdom
ATTACH;FMTTYPE=image/png:https://codcanterburychurch.org/wp-content/uploads/2025/06/sunday-service-cos.png
ORGANIZER;CN="COD Canterbury":MAILTO:office@codcanterburychurch.org
END:VEVENT
BEGIN:VEVENT
DTSTART;TZID=Europe/London:20250831T090000
DTEND;TZID=Europe/London:20250831T110000
DTSTAMP:20260421T202258
CREATED:20250622T203547Z
LAST-MODIFIED:20250622T203547Z
UID:10000010-1756630800-1756638000@codcanterburychurch.org
SUMMARY:Sunday Service
DESCRIPTION:Sunday Service
URL:https://codcanterburychurch.org/index.php/event/sunday-service/2025-08-31/
LOCATION:Function Hall\, St. John’s Church of England Primary School\, Canterbury\, United Kingdom
ATTACH;FMTTYPE=image/png:https://codcanterburychurch.org/wp-content/uploads/2025/06/sunday-service-cos.png
ORGANIZER;CN="COD Canterbury":MAILTO:office@codcanterburychurch.org
END:VEVENT
BEGIN:VEVENT
DTSTART;TZID=Europe/London:20250829T220000
DTEND;TZID=Europe/London:20250829T233000
DTSTAMP:20260421T202258
CREATED:20250622T203835Z
LAST-MODIFIED:20250622T203835Z
UID:10000270-1756504800-1756510200@codcanterburychurch.org
SUMMARY:Connect Friday
DESCRIPTION:
URL:https://codcanterburychurch.org/index.php/event/connect-friday/2025-08-29/
LOCATION:Function Hall\, St. John’s Church of England Primary School\, Canterbury\, United Kingdom
ATTACH;FMTTYPE=image/jpeg:https://codcanterburychurch.org/wp-content/uploads/2025/06/connect-friday-cod-canterbury.jpg
ORGANIZER;CN="COD Canterbury":MAILTO:office@codcanterburychurch.org
END:VEVENT
BEGIN:VEVENT
DTSTART;TZID=Europe/London:20250824T113000
DTEND;TZID=Europe/London:20250824T140000
DTSTAMP:20260421T202258
CREATED:20251213T164232Z
LAST-MODIFIED:20251213T164232Z
UID:10000817-1756035000-1756044000@codcanterburychurch.org
SUMMARY:2nd Service - Sunday
DESCRIPTION:Sunday Service
URL:https://codcanterburychurch.org/index.php/event/2nd-service-sunday/2025-08-24/
LOCATION:Function Hall\, St. John’s Church of England Primary School\, Canterbury\, United Kingdom
ATTACH;FMTTYPE=image/png:https://codcanterburychurch.org/wp-content/uploads/2025/06/sunday-service-cos.png
ORGANIZER;CN="COD Canterbury":MAILTO:office@codcanterburychurch.org
END:VEVENT
BEGIN:VEVENT
DTSTART;TZID=Europe/London:20250824T090000
DTEND;TZID=Europe/London:20250824T110000
DTSTAMP:20260421T202258
CREATED:20250622T203547Z
LAST-MODIFIED:20250622T203547Z
UID:10000009-1756026000-1756033200@codcanterburychurch.org
SUMMARY:Sunday Service
DESCRIPTION:Sunday Service
URL:https://codcanterburychurch.org/index.php/event/sunday-service/2025-08-24/
LOCATION:Function Hall\, St. John’s Church of England Primary School\, Canterbury\, United Kingdom
ATTACH;FMTTYPE=image/png:https://codcanterburychurch.org/wp-content/uploads/2025/06/sunday-service-cos.png
ORGANIZER;CN="COD Canterbury":MAILTO:office@codcanterburychurch.org
END:VEVENT
BEGIN:VEVENT
DTSTART;TZID=Europe/London:20250822T220000
DTEND;TZID=Europe/London:20250822T233000
DTSTAMP:20260421T202258
CREATED:20250622T203835Z
LAST-MODIFIED:20250622T203835Z
UID:10000269-1755900000-1755905400@codcanterburychurch.org
SUMMARY:Connect Friday
DESCRIPTION:
URL:https://codcanterburychurch.org/index.php/event/connect-friday/2025-08-22/
LOCATION:Function Hall\, St. John’s Church of England Primary School\, Canterbury\, United Kingdom
ATTACH;FMTTYPE=image/jpeg:https://codcanterburychurch.org/wp-content/uploads/2025/06/connect-friday-cod-canterbury.jpg
ORGANIZER;CN="COD Canterbury":MAILTO:office@codcanterburychurch.org
END:VEVENT
BEGIN:VEVENT
DTSTART;TZID=Europe/London:20250817T113000
DTEND;TZID=Europe/London:20250817T140000
DTSTAMP:20260421T202258
CREATED:20251213T164232Z
LAST-MODIFIED:20251213T164232Z
UID:10000816-1755430200-1755439200@codcanterburychurch.org
SUMMARY:2nd Service - Sunday
DESCRIPTION:Sunday Service
URL:https://codcanterburychurch.org/index.php/event/2nd-service-sunday/2025-08-17/
LOCATION:Function Hall\, St. John’s Church of England Primary School\, Canterbury\, United Kingdom
ATTACH;FMTTYPE=image/png:https://codcanterburychurch.org/wp-content/uploads/2025/06/sunday-service-cos.png
ORGANIZER;CN="COD Canterbury":MAILTO:office@codcanterburychurch.org
END:VEVENT
BEGIN:VEVENT
DTSTART;TZID=Europe/London:20250817T090000
DTEND;TZID=Europe/London:20250817T110000
DTSTAMP:20260421T202258
CREATED:20250622T203547Z
LAST-MODIFIED:20250622T203547Z
UID:10000008-1755421200-1755428400@codcanterburychurch.org
SUMMARY:Sunday Service
DESCRIPTION:Sunday Service
URL:https://codcanterburychurch.org/index.php/event/sunday-service/2025-08-17/
LOCATION:Function Hall\, St. John’s Church of England Primary School\, Canterbury\, United Kingdom
ATTACH;FMTTYPE=image/png:https://codcanterburychurch.org/wp-content/uploads/2025/06/sunday-service-cos.png
ORGANIZER;CN="COD Canterbury":MAILTO:office@codcanterburychurch.org
END:VEVENT
BEGIN:VEVENT
DTSTART;TZID=Europe/London:20250815T220000
DTEND;TZID=Europe/London:20250815T233000
DTSTAMP:20260421T202258
CREATED:20250622T203835Z
LAST-MODIFIED:20250622T203835Z
UID:10000268-1755295200-1755300600@codcanterburychurch.org
SUMMARY:Connect Friday
DESCRIPTION:
URL:https://codcanterburychurch.org/index.php/event/connect-friday/2025-08-15/
LOCATION:Function Hall\, St. John’s Church of England Primary School\, Canterbury\, United Kingdom
ATTACH;FMTTYPE=image/jpeg:https://codcanterburychurch.org/wp-content/uploads/2025/06/connect-friday-cod-canterbury.jpg
ORGANIZER;CN="COD Canterbury":MAILTO:office@codcanterburychurch.org
END:VEVENT
BEGIN:VEVENT
DTSTART;TZID=Europe/London:20250810T113000
DTEND;TZID=Europe/London:20250810T140000
DTSTAMP:20260421T202258
CREATED:20251213T164232Z
LAST-MODIFIED:20251213T164232Z
UID:10000815-1754825400-1754834400@codcanterburychurch.org
SUMMARY:2nd Service - Sunday
DESCRIPTION:Sunday Service
URL:https://codcanterburychurch.org/index.php/event/2nd-service-sunday/2025-08-10/
LOCATION:Function Hall\, St. John’s Church of England Primary School\, Canterbury\, United Kingdom
ATTACH;FMTTYPE=image/png:https://codcanterburychurch.org/wp-content/uploads/2025/06/sunday-service-cos.png
ORGANIZER;CN="COD Canterbury":MAILTO:office@codcanterburychurch.org
END:VEVENT
BEGIN:VEVENT
DTSTART;TZID=Europe/London:20250810T090000
DTEND;TZID=Europe/London:20250810T110000
DTSTAMP:20260421T202258
CREATED:20250622T203547Z
LAST-MODIFIED:20250622T203547Z
UID:10000007-1754816400-1754823600@codcanterburychurch.org
SUMMARY:Sunday Service
DESCRIPTION:Sunday Service
URL:https://codcanterburychurch.org/index.php/event/sunday-service/2025-08-10/
LOCATION:Function Hall\, St. John’s Church of England Primary School\, Canterbury\, United Kingdom
ATTACH;FMTTYPE=image/png:https://codcanterburychurch.org/wp-content/uploads/2025/06/sunday-service-cos.png
ORGANIZER;CN="COD Canterbury":MAILTO:office@codcanterburychurch.org
END:VEVENT
BEGIN:VEVENT
DTSTART;TZID=Europe/London:20250808T220000
DTEND;TZID=Europe/London:20250808T233000
DTSTAMP:20260421T202258
CREATED:20250622T203835Z
LAST-MODIFIED:20250622T203835Z
UID:10000267-1754690400-1754695800@codcanterburychurch.org
SUMMARY:Connect Friday
DESCRIPTION:
URL:https://codcanterburychurch.org/index.php/event/connect-friday/2025-08-08/
LOCATION:Function Hall\, St. John’s Church of England Primary School\, Canterbury\, United Kingdom
ATTACH;FMTTYPE=image/jpeg:https://codcanterburychurch.org/wp-content/uploads/2025/06/connect-friday-cod-canterbury.jpg
ORGANIZER;CN="COD Canterbury":MAILTO:office@codcanterburychurch.org
END:VEVENT
BEGIN:VEVENT
DTSTART;TZID=Europe/London:20250803T113000
DTEND;TZID=Europe/London:20250803T140000
DTSTAMP:20260421T202258
CREATED:20251213T164232Z
LAST-MODIFIED:20251213T164232Z
UID:10000814-1754220600-1754229600@codcanterburychurch.org
SUMMARY:2nd Service - Sunday
DESCRIPTION:Sunday Service
URL:https://codcanterburychurch.org/index.php/event/2nd-service-sunday/2025-08-03/
LOCATION:Function Hall\, St. John’s Church of England Primary School\, Canterbury\, United Kingdom
ATTACH;FMTTYPE=image/png:https://codcanterburychurch.org/wp-content/uploads/2025/06/sunday-service-cos.png
ORGANIZER;CN="COD Canterbury":MAILTO:office@codcanterburychurch.org
END:VEVENT
BEGIN:VEVENT
DTSTART;TZID=Europe/London:20250803T090000
DTEND;TZID=Europe/London:20250803T110000
DTSTAMP:20260421T202258
CREATED:20250622T203547Z
LAST-MODIFIED:20250622T203547Z
UID:10000006-1754211600-1754218800@codcanterburychurch.org
SUMMARY:Sunday Service
DESCRIPTION:Sunday Service
URL:https://codcanterburychurch.org/index.php/event/sunday-service/2025-08-03/
LOCATION:Function Hall\, St. John’s Church of England Primary School\, Canterbury\, United Kingdom
ATTACH;FMTTYPE=image/png:https://codcanterburychurch.org/wp-content/uploads/2025/06/sunday-service-cos.png
ORGANIZER;CN="COD Canterbury":MAILTO:office@codcanterburychurch.org
END:VEVENT
BEGIN:VEVENT
DTSTART;TZID=Europe/London:20250801T220000
DTEND;TZID=Europe/London:20250801T233000
DTSTAMP:20260421T202258
CREATED:20250622T203835Z
LAST-MODIFIED:20250622T203835Z
UID:10000266-1754085600-1754091000@codcanterburychurch.org
SUMMARY:Connect Friday
DESCRIPTION:
URL:https://codcanterburychurch.org/index.php/event/connect-friday/2025-08-01/
LOCATION:Function Hall\, St. John’s Church of England Primary School\, Canterbury\, United Kingdom
ATTACH;FMTTYPE=image/jpeg:https://codcanterburychurch.org/wp-content/uploads/2025/06/connect-friday-cod-canterbury.jpg
ORGANIZER;CN="COD Canterbury":MAILTO:office@codcanterburychurch.org
END:VEVENT
END:VCALENDAR