BEGIN:VCALENDAR
VERSION:2.0
PRODID:-//Rccg COD Canterbury - ECPv6.13.2.1//NONSGML v1.0//EN
CALSCALE:GREGORIAN
METHOD:PUBLISH
X-ORIGINAL-URL:https://codcanterburychurch.org
X-WR-CALDESC:Events for Rccg COD Canterbury
REFRESH-INTERVAL;VALUE=DURATION:PT1H
X-Robots-Tag:noindex
X-PUBLISHED-TTL:PT1H
BEGIN:VTIMEZONE
TZID:Europe/London
BEGIN:DAYLIGHT
TZOFFSETFROM:+0000
TZOFFSETTO:+0100
TZNAME:BST
DTSTART:20270328T010000
END:DAYLIGHT
BEGIN:STANDARD
TZOFFSETFROM:+0100
TZOFFSETTO:+0000
TZNAME:GMT
DTSTART:20271031T010000
END:STANDARD
END:VTIMEZONE
BEGIN:VEVENT
DTSTART;TZID=Europe/London:20270101T220000
DTEND;TZID=Europe/London:20270101T233000
DTSTAMP:20260422T032049
CREATED:20250622T203835Z
LAST-MODIFIED:20250622T203835Z
UID:10000340-1798840800-1798846200@codcanterburychurch.org
SUMMARY:Connect Friday
DESCRIPTION:
URL:https://codcanterburychurch.org/index.php/event/connect-friday/2027-01-01/
LOCATION:Function Hall\, St. John’s Church of England Primary School\, Canterbury\, United Kingdom
ATTACH;FMTTYPE=image/jpeg:https://codcanterburychurch.org/wp-content/uploads/2025/06/connect-friday-cod-canterbury.jpg
ORGANIZER;CN="COD Canterbury":MAILTO:office@codcanterburychurch.org
END:VEVENT
BEGIN:VEVENT
DTSTART;TZID=Europe/London:20270103T090000
DTEND;TZID=Europe/London:20270103T110000
DTSTAMP:20260422T032049
CREATED:20250622T203547Z
LAST-MODIFIED:20250622T203547Z
UID:10000080-1798966800-1798974000@codcanterburychurch.org
SUMMARY:Sunday Service
DESCRIPTION:Sunday Service
URL:https://codcanterburychurch.org/index.php/event/sunday-service/2027-01-03/
LOCATION:Function Hall\, St. John’s Church of England Primary School\, Canterbury\, United Kingdom
ATTACH;FMTTYPE=image/png:https://codcanterburychurch.org/wp-content/uploads/2025/06/sunday-service-cos.png
ORGANIZER;CN="COD Canterbury":MAILTO:office@codcanterburychurch.org
END:VEVENT
BEGIN:VEVENT
DTSTART;TZID=Europe/London:20270103T113000
DTEND;TZID=Europe/London:20270103T140000
DTSTAMP:20260422T032049
CREATED:20251213T164232Z
LAST-MODIFIED:20251213T164232Z
UID:10000888-1798975800-1798984800@codcanterburychurch.org
SUMMARY:2nd Service - Sunday
DESCRIPTION:Sunday Service
URL:https://codcanterburychurch.org/index.php/event/2nd-service-sunday/2027-01-03/
LOCATION:Function Hall\, St. John’s Church of England Primary School\, Canterbury\, United Kingdom
ATTACH;FMTTYPE=image/png:https://codcanterburychurch.org/wp-content/uploads/2025/06/sunday-service-cos.png
ORGANIZER;CN="COD Canterbury":MAILTO:office@codcanterburychurch.org
END:VEVENT
BEGIN:VEVENT
DTSTART;TZID=Europe/London:20270108T220000
DTEND;TZID=Europe/London:20270108T233000
DTSTAMP:20260422T032049
CREATED:20250622T203835Z
LAST-MODIFIED:20250622T203835Z
UID:10000341-1799445600-1799451000@codcanterburychurch.org
SUMMARY:Connect Friday
DESCRIPTION:
URL:https://codcanterburychurch.org/index.php/event/connect-friday/2027-01-08/
LOCATION:Function Hall\, St. John’s Church of England Primary School\, Canterbury\, United Kingdom
ATTACH;FMTTYPE=image/jpeg:https://codcanterburychurch.org/wp-content/uploads/2025/06/connect-friday-cod-canterbury.jpg
ORGANIZER;CN="COD Canterbury":MAILTO:office@codcanterburychurch.org
END:VEVENT
BEGIN:VEVENT
DTSTART;TZID=Europe/London:20270110T090000
DTEND;TZID=Europe/London:20270110T110000
DTSTAMP:20260422T032049
CREATED:20250622T203547Z
LAST-MODIFIED:20250622T203547Z
UID:10000081-1799571600-1799578800@codcanterburychurch.org
SUMMARY:Sunday Service
DESCRIPTION:Sunday Service
URL:https://codcanterburychurch.org/index.php/event/sunday-service/2027-01-10/
LOCATION:Function Hall\, St. John’s Church of England Primary School\, Canterbury\, United Kingdom
ATTACH;FMTTYPE=image/png:https://codcanterburychurch.org/wp-content/uploads/2025/06/sunday-service-cos.png
ORGANIZER;CN="COD Canterbury":MAILTO:office@codcanterburychurch.org
END:VEVENT
BEGIN:VEVENT
DTSTART;TZID=Europe/London:20270110T113000
DTEND;TZID=Europe/London:20270110T140000
DTSTAMP:20260422T032049
CREATED:20251213T164232Z
LAST-MODIFIED:20251213T164232Z
UID:10000889-1799580600-1799589600@codcanterburychurch.org
SUMMARY:2nd Service - Sunday
DESCRIPTION:Sunday Service
URL:https://codcanterburychurch.org/index.php/event/2nd-service-sunday/2027-01-10/
LOCATION:Function Hall\, St. John’s Church of England Primary School\, Canterbury\, United Kingdom
ATTACH;FMTTYPE=image/png:https://codcanterburychurch.org/wp-content/uploads/2025/06/sunday-service-cos.png
ORGANIZER;CN="COD Canterbury":MAILTO:office@codcanterburychurch.org
END:VEVENT
BEGIN:VEVENT
DTSTART;TZID=Europe/London:20270115T220000
DTEND;TZID=Europe/London:20270115T233000
DTSTAMP:20260422T032049
CREATED:20250622T203835Z
LAST-MODIFIED:20250622T203835Z
UID:10000342-1800050400-1800055800@codcanterburychurch.org
SUMMARY:Connect Friday
DESCRIPTION:
URL:https://codcanterburychurch.org/index.php/event/connect-friday/2027-01-15/
LOCATION:Function Hall\, St. John’s Church of England Primary School\, Canterbury\, United Kingdom
ATTACH;FMTTYPE=image/jpeg:https://codcanterburychurch.org/wp-content/uploads/2025/06/connect-friday-cod-canterbury.jpg
ORGANIZER;CN="COD Canterbury":MAILTO:office@codcanterburychurch.org
END:VEVENT
BEGIN:VEVENT
DTSTART;TZID=Europe/London:20270117T090000
DTEND;TZID=Europe/London:20270117T110000
DTSTAMP:20260422T032049
CREATED:20250622T203547Z
LAST-MODIFIED:20250622T203547Z
UID:10000082-1800176400-1800183600@codcanterburychurch.org
SUMMARY:Sunday Service
DESCRIPTION:Sunday Service
URL:https://codcanterburychurch.org/index.php/event/sunday-service/2027-01-17/
LOCATION:Function Hall\, St. John’s Church of England Primary School\, Canterbury\, United Kingdom
ATTACH;FMTTYPE=image/png:https://codcanterburychurch.org/wp-content/uploads/2025/06/sunday-service-cos.png
ORGANIZER;CN="COD Canterbury":MAILTO:office@codcanterburychurch.org
END:VEVENT
BEGIN:VEVENT
DTSTART;TZID=Europe/London:20270117T113000
DTEND;TZID=Europe/London:20270117T140000
DTSTAMP:20260422T032049
CREATED:20251213T164232Z
LAST-MODIFIED:20251213T164232Z
UID:10000890-1800185400-1800194400@codcanterburychurch.org
SUMMARY:2nd Service - Sunday
DESCRIPTION:Sunday Service
URL:https://codcanterburychurch.org/index.php/event/2nd-service-sunday/2027-01-17/
LOCATION:Function Hall\, St. John’s Church of England Primary School\, Canterbury\, United Kingdom
ATTACH;FMTTYPE=image/png:https://codcanterburychurch.org/wp-content/uploads/2025/06/sunday-service-cos.png
ORGANIZER;CN="COD Canterbury":MAILTO:office@codcanterburychurch.org
END:VEVENT
BEGIN:VEVENT
DTSTART;TZID=Europe/London:20270122T220000
DTEND;TZID=Europe/London:20270122T233000
DTSTAMP:20260422T032049
CREATED:20250622T203835Z
LAST-MODIFIED:20250622T203835Z
UID:10000343-1800655200-1800660600@codcanterburychurch.org
SUMMARY:Connect Friday
DESCRIPTION:
URL:https://codcanterburychurch.org/index.php/event/connect-friday/2027-01-22/
LOCATION:Function Hall\, St. John’s Church of England Primary School\, Canterbury\, United Kingdom
ATTACH;FMTTYPE=image/jpeg:https://codcanterburychurch.org/wp-content/uploads/2025/06/connect-friday-cod-canterbury.jpg
ORGANIZER;CN="COD Canterbury":MAILTO:office@codcanterburychurch.org
END:VEVENT
BEGIN:VEVENT
DTSTART;TZID=Europe/London:20270124T090000
DTEND;TZID=Europe/London:20270124T110000
DTSTAMP:20260422T032049
CREATED:20250622T203547Z
LAST-MODIFIED:20250622T203547Z
UID:10000083-1800781200-1800788400@codcanterburychurch.org
SUMMARY:Sunday Service
DESCRIPTION:Sunday Service
URL:https://codcanterburychurch.org/index.php/event/sunday-service/2027-01-24/
LOCATION:Function Hall\, St. John’s Church of England Primary School\, Canterbury\, United Kingdom
ATTACH;FMTTYPE=image/png:https://codcanterburychurch.org/wp-content/uploads/2025/06/sunday-service-cos.png
ORGANIZER;CN="COD Canterbury":MAILTO:office@codcanterburychurch.org
END:VEVENT
BEGIN:VEVENT
DTSTART;TZID=Europe/London:20270124T113000
DTEND;TZID=Europe/London:20270124T140000
DTSTAMP:20260422T032049
CREATED:20251213T164232Z
LAST-MODIFIED:20251213T164232Z
UID:10000891-1800790200-1800799200@codcanterburychurch.org
SUMMARY:2nd Service - Sunday
DESCRIPTION:Sunday Service
URL:https://codcanterburychurch.org/index.php/event/2nd-service-sunday/2027-01-24/
LOCATION:Function Hall\, St. John’s Church of England Primary School\, Canterbury\, United Kingdom
ATTACH;FMTTYPE=image/png:https://codcanterburychurch.org/wp-content/uploads/2025/06/sunday-service-cos.png
ORGANIZER;CN="COD Canterbury":MAILTO:office@codcanterburychurch.org
END:VEVENT
BEGIN:VEVENT
DTSTART;TZID=Europe/London:20270129T220000
DTEND;TZID=Europe/London:20270129T233000
DTSTAMP:20260422T032049
CREATED:20250622T203835Z
LAST-MODIFIED:20250622T203835Z
UID:10000344-1801260000-1801265400@codcanterburychurch.org
SUMMARY:Connect Friday
DESCRIPTION:
URL:https://codcanterburychurch.org/index.php/event/connect-friday/2027-01-29/
LOCATION:Function Hall\, St. John’s Church of England Primary School\, Canterbury\, United Kingdom
ATTACH;FMTTYPE=image/jpeg:https://codcanterburychurch.org/wp-content/uploads/2025/06/connect-friday-cod-canterbury.jpg
ORGANIZER;CN="COD Canterbury":MAILTO:office@codcanterburychurch.org
END:VEVENT
BEGIN:VEVENT
DTSTART;TZID=Europe/London:20270131T090000
DTEND;TZID=Europe/London:20270131T110000
DTSTAMP:20260422T032049
CREATED:20250622T203547Z
LAST-MODIFIED:20250622T203547Z
UID:10000084-1801386000-1801393200@codcanterburychurch.org
SUMMARY:Sunday Service
DESCRIPTION:Sunday Service
URL:https://codcanterburychurch.org/index.php/event/sunday-service/2027-01-31/
LOCATION:Function Hall\, St. John’s Church of England Primary School\, Canterbury\, United Kingdom
ATTACH;FMTTYPE=image/png:https://codcanterburychurch.org/wp-content/uploads/2025/06/sunday-service-cos.png
ORGANIZER;CN="COD Canterbury":MAILTO:office@codcanterburychurch.org
END:VEVENT
BEGIN:VEVENT
DTSTART;TZID=Europe/London:20270131T113000
DTEND;TZID=Europe/London:20270131T140000
DTSTAMP:20260422T032049
CREATED:20251213T164232Z
LAST-MODIFIED:20251213T164232Z
UID:10000892-1801395000-1801404000@codcanterburychurch.org
SUMMARY:2nd Service - Sunday
DESCRIPTION:Sunday Service
URL:https://codcanterburychurch.org/index.php/event/2nd-service-sunday/2027-01-31/
LOCATION:Function Hall\, St. John’s Church of England Primary School\, Canterbury\, United Kingdom
ATTACH;FMTTYPE=image/png:https://codcanterburychurch.org/wp-content/uploads/2025/06/sunday-service-cos.png
ORGANIZER;CN="COD Canterbury":MAILTO:office@codcanterburychurch.org
END:VEVENT
BEGIN:VEVENT
DTSTART;TZID=Europe/London:20270205T220000
DTEND;TZID=Europe/London:20270205T233000
DTSTAMP:20260422T032050
CREATED:20250622T203835Z
LAST-MODIFIED:20250622T203835Z
UID:10000345-1801864800-1801870200@codcanterburychurch.org
SUMMARY:Connect Friday
DESCRIPTION:
URL:https://codcanterburychurch.org/index.php/event/connect-friday/2027-02-05/
LOCATION:Function Hall\, St. John’s Church of England Primary School\, Canterbury\, United Kingdom
ATTACH;FMTTYPE=image/jpeg:https://codcanterburychurch.org/wp-content/uploads/2025/06/connect-friday-cod-canterbury.jpg
ORGANIZER;CN="COD Canterbury":MAILTO:office@codcanterburychurch.org
END:VEVENT
BEGIN:VEVENT
DTSTART;TZID=Europe/London:20270207T090000
DTEND;TZID=Europe/London:20270207T110000
DTSTAMP:20260422T032050
CREATED:20250622T203547Z
LAST-MODIFIED:20250622T203547Z
UID:10000085-1801990800-1801998000@codcanterburychurch.org
SUMMARY:Sunday Service
DESCRIPTION:Sunday Service
URL:https://codcanterburychurch.org/index.php/event/sunday-service/2027-02-07/
LOCATION:Function Hall\, St. John’s Church of England Primary School\, Canterbury\, United Kingdom
ATTACH;FMTTYPE=image/png:https://codcanterburychurch.org/wp-content/uploads/2025/06/sunday-service-cos.png
ORGANIZER;CN="COD Canterbury":MAILTO:office@codcanterburychurch.org
END:VEVENT
BEGIN:VEVENT
DTSTART;TZID=Europe/London:20270207T113000
DTEND;TZID=Europe/London:20270207T140000
DTSTAMP:20260422T032050
CREATED:20251213T164232Z
LAST-MODIFIED:20251213T164232Z
UID:10000893-1801999800-1802008800@codcanterburychurch.org
SUMMARY:2nd Service - Sunday
DESCRIPTION:Sunday Service
URL:https://codcanterburychurch.org/index.php/event/2nd-service-sunday/2027-02-07/
LOCATION:Function Hall\, St. John’s Church of England Primary School\, Canterbury\, United Kingdom
ATTACH;FMTTYPE=image/png:https://codcanterburychurch.org/wp-content/uploads/2025/06/sunday-service-cos.png
ORGANIZER;CN="COD Canterbury":MAILTO:office@codcanterburychurch.org
END:VEVENT
BEGIN:VEVENT
DTSTART;TZID=Europe/London:20270212T220000
DTEND;TZID=Europe/London:20270212T233000
DTSTAMP:20260422T032050
CREATED:20250622T203835Z
LAST-MODIFIED:20250622T203835Z
UID:10000346-1802469600-1802475000@codcanterburychurch.org
SUMMARY:Connect Friday
DESCRIPTION:
URL:https://codcanterburychurch.org/index.php/event/connect-friday/2027-02-12/
LOCATION:Function Hall\, St. John’s Church of England Primary School\, Canterbury\, United Kingdom
ATTACH;FMTTYPE=image/jpeg:https://codcanterburychurch.org/wp-content/uploads/2025/06/connect-friday-cod-canterbury.jpg
ORGANIZER;CN="COD Canterbury":MAILTO:office@codcanterburychurch.org
END:VEVENT
BEGIN:VEVENT
DTSTART;TZID=Europe/London:20270214T090000
DTEND;TZID=Europe/London:20270214T110000
DTSTAMP:20260422T032050
CREATED:20250622T203547Z
LAST-MODIFIED:20250622T203547Z
UID:10000086-1802595600-1802602800@codcanterburychurch.org
SUMMARY:Sunday Service
DESCRIPTION:Sunday Service
URL:https://codcanterburychurch.org/index.php/event/sunday-service/2027-02-14/
LOCATION:Function Hall\, St. John’s Church of England Primary School\, Canterbury\, United Kingdom
ATTACH;FMTTYPE=image/png:https://codcanterburychurch.org/wp-content/uploads/2025/06/sunday-service-cos.png
ORGANIZER;CN="COD Canterbury":MAILTO:office@codcanterburychurch.org
END:VEVENT
BEGIN:VEVENT
DTSTART;TZID=Europe/London:20270214T113000
DTEND;TZID=Europe/London:20270214T140000
DTSTAMP:20260422T032050
CREATED:20251213T164232Z
LAST-MODIFIED:20251213T164232Z
UID:10000894-1802604600-1802613600@codcanterburychurch.org
SUMMARY:2nd Service - Sunday
DESCRIPTION:Sunday Service
URL:https://codcanterburychurch.org/index.php/event/2nd-service-sunday/2027-02-14/
LOCATION:Function Hall\, St. John’s Church of England Primary School\, Canterbury\, United Kingdom
ATTACH;FMTTYPE=image/png:https://codcanterburychurch.org/wp-content/uploads/2025/06/sunday-service-cos.png
ORGANIZER;CN="COD Canterbury":MAILTO:office@codcanterburychurch.org
END:VEVENT
BEGIN:VEVENT
DTSTART;TZID=Europe/London:20270219T220000
DTEND;TZID=Europe/London:20270219T233000
DTSTAMP:20260422T032050
CREATED:20250622T203835Z
LAST-MODIFIED:20250622T203835Z
UID:10000347-1803074400-1803079800@codcanterburychurch.org
SUMMARY:Connect Friday
DESCRIPTION:
URL:https://codcanterburychurch.org/index.php/event/connect-friday/2027-02-19/
LOCATION:Function Hall\, St. John’s Church of England Primary School\, Canterbury\, United Kingdom
ATTACH;FMTTYPE=image/jpeg:https://codcanterburychurch.org/wp-content/uploads/2025/06/connect-friday-cod-canterbury.jpg
ORGANIZER;CN="COD Canterbury":MAILTO:office@codcanterburychurch.org
END:VEVENT
BEGIN:VEVENT
DTSTART;TZID=Europe/London:20270221T090000
DTEND;TZID=Europe/London:20270221T110000
DTSTAMP:20260422T032050
CREATED:20250622T203547Z
LAST-MODIFIED:20250622T203547Z
UID:10000087-1803200400-1803207600@codcanterburychurch.org
SUMMARY:Sunday Service
DESCRIPTION:Sunday Service
URL:https://codcanterburychurch.org/index.php/event/sunday-service/2027-02-21/
LOCATION:Function Hall\, St. John’s Church of England Primary School\, Canterbury\, United Kingdom
ATTACH;FMTTYPE=image/png:https://codcanterburychurch.org/wp-content/uploads/2025/06/sunday-service-cos.png
ORGANIZER;CN="COD Canterbury":MAILTO:office@codcanterburychurch.org
END:VEVENT
BEGIN:VEVENT
DTSTART;TZID=Europe/London:20270221T113000
DTEND;TZID=Europe/London:20270221T140000
DTSTAMP:20260422T032050
CREATED:20251213T164232Z
LAST-MODIFIED:20251213T164232Z
UID:10000895-1803209400-1803218400@codcanterburychurch.org
SUMMARY:2nd Service - Sunday
DESCRIPTION:Sunday Service
URL:https://codcanterburychurch.org/index.php/event/2nd-service-sunday/2027-02-21/
LOCATION:Function Hall\, St. John’s Church of England Primary School\, Canterbury\, United Kingdom
ATTACH;FMTTYPE=image/png:https://codcanterburychurch.org/wp-content/uploads/2025/06/sunday-service-cos.png
ORGANIZER;CN="COD Canterbury":MAILTO:office@codcanterburychurch.org
END:VEVENT
BEGIN:VEVENT
DTSTART;TZID=Europe/London:20270226T220000
DTEND;TZID=Europe/London:20270226T233000
DTSTAMP:20260422T032050
CREATED:20250622T203835Z
LAST-MODIFIED:20250622T203835Z
UID:10000348-1803679200-1803684600@codcanterburychurch.org
SUMMARY:Connect Friday
DESCRIPTION:
URL:https://codcanterburychurch.org/index.php/event/connect-friday/2027-02-26/
LOCATION:Function Hall\, St. John’s Church of England Primary School\, Canterbury\, United Kingdom
ATTACH;FMTTYPE=image/jpeg:https://codcanterburychurch.org/wp-content/uploads/2025/06/connect-friday-cod-canterbury.jpg
ORGANIZER;CN="COD Canterbury":MAILTO:office@codcanterburychurch.org
END:VEVENT
BEGIN:VEVENT
DTSTART;TZID=Europe/London:20270228T090000
DTEND;TZID=Europe/London:20270228T110000
DTSTAMP:20260422T032050
CREATED:20250622T203547Z
LAST-MODIFIED:20250622T203547Z
UID:10000088-1803805200-1803812400@codcanterburychurch.org
SUMMARY:Sunday Service
DESCRIPTION:Sunday Service
URL:https://codcanterburychurch.org/index.php/event/sunday-service/2027-02-28/
LOCATION:Function Hall\, St. John’s Church of England Primary School\, Canterbury\, United Kingdom
ATTACH;FMTTYPE=image/png:https://codcanterburychurch.org/wp-content/uploads/2025/06/sunday-service-cos.png
ORGANIZER;CN="COD Canterbury":MAILTO:office@codcanterburychurch.org
END:VEVENT
BEGIN:VEVENT
DTSTART;TZID=Europe/London:20270228T113000
DTEND;TZID=Europe/London:20270228T140000
DTSTAMP:20260422T032050
CREATED:20251213T164232Z
LAST-MODIFIED:20251213T164232Z
UID:10000896-1803814200-1803823200@codcanterburychurch.org
SUMMARY:2nd Service - Sunday
DESCRIPTION:Sunday Service
URL:https://codcanterburychurch.org/index.php/event/2nd-service-sunday/2027-02-28/
LOCATION:Function Hall\, St. John’s Church of England Primary School\, Canterbury\, United Kingdom
ATTACH;FMTTYPE=image/png:https://codcanterburychurch.org/wp-content/uploads/2025/06/sunday-service-cos.png
ORGANIZER;CN="COD Canterbury":MAILTO:office@codcanterburychurch.org
END:VEVENT
BEGIN:VEVENT
DTSTART;TZID=Europe/London:20270305T220000
DTEND;TZID=Europe/London:20270305T233000
DTSTAMP:20260422T032050
CREATED:20250622T203835Z
LAST-MODIFIED:20250622T203835Z
UID:10000349-1804284000-1804289400@codcanterburychurch.org
SUMMARY:Connect Friday
DESCRIPTION:
URL:https://codcanterburychurch.org/index.php/event/connect-friday/2027-03-05/
LOCATION:Function Hall\, St. John’s Church of England Primary School\, Canterbury\, United Kingdom
ATTACH;FMTTYPE=image/jpeg:https://codcanterburychurch.org/wp-content/uploads/2025/06/connect-friday-cod-canterbury.jpg
ORGANIZER;CN="COD Canterbury":MAILTO:office@codcanterburychurch.org
END:VEVENT
BEGIN:VEVENT
DTSTART;TZID=Europe/London:20270307T090000
DTEND;TZID=Europe/London:20270307T110000
DTSTAMP:20260422T032050
CREATED:20250622T203547Z
LAST-MODIFIED:20250622T203547Z
UID:10000089-1804410000-1804417200@codcanterburychurch.org
SUMMARY:Sunday Service
DESCRIPTION:Sunday Service
URL:https://codcanterburychurch.org/index.php/event/sunday-service/2027-03-07/
LOCATION:Function Hall\, St. John’s Church of England Primary School\, Canterbury\, United Kingdom
ATTACH;FMTTYPE=image/png:https://codcanterburychurch.org/wp-content/uploads/2025/06/sunday-service-cos.png
ORGANIZER;CN="COD Canterbury":MAILTO:office@codcanterburychurch.org
END:VEVENT
BEGIN:VEVENT
DTSTART;TZID=Europe/London:20270307T113000
DTEND;TZID=Europe/London:20270307T140000
DTSTAMP:20260422T032050
CREATED:20251213T164232Z
LAST-MODIFIED:20251213T164232Z
UID:10000897-1804419000-1804428000@codcanterburychurch.org
SUMMARY:2nd Service - Sunday
DESCRIPTION:Sunday Service
URL:https://codcanterburychurch.org/index.php/event/2nd-service-sunday/2027-03-07/
LOCATION:Function Hall\, St. John’s Church of England Primary School\, Canterbury\, United Kingdom
ATTACH;FMTTYPE=image/png:https://codcanterburychurch.org/wp-content/uploads/2025/06/sunday-service-cos.png
ORGANIZER;CN="COD Canterbury":MAILTO:office@codcanterburychurch.org
END:VEVENT
END:VCALENDAR